BEGIN:VCALENDAR
VERSION:2.0
PRODID:-//Film and TV Acting Classes and Auditions Workshops for Adults, Kids in San Diego - ECPv6.15.20//NONSGML v1.0//EN
CALSCALE:GREGORIAN
METHOD:PUBLISH
X-ORIGINAL-URL:https://actorsworkshopstudios.net
X-WR-CALDESC:Events for Film and TV Acting Classes and Auditions Workshops for Adults, Kids in San Diego
REFRESH-INTERVAL;VALUE=DURATION:PT1H
X-Robots-Tag:noindex
X-PUBLISHED-TTL:PT1H
BEGIN:VTIMEZONE
TZID:America/Los_Angeles
BEGIN:DAYLIGHT
TZOFFSETFROM:-0800
TZOFFSETTO:-0700
TZNAME:PDT
DTSTART:20040404T100000
END:DAYLIGHT
BEGIN:STANDARD
TZOFFSETFROM:-0700
TZOFFSETTO:-0800
TZNAME:PST
DTSTART:20041031T090000
END:STANDARD
BEGIN:DAYLIGHT
TZOFFSETFROM:-0800
TZOFFSETTO:-0700
TZNAME:PDT
DTSTART:20050403T100000
END:DAYLIGHT
BEGIN:STANDARD
TZOFFSETFROM:-0700
TZOFFSETTO:-0800
TZNAME:PST
DTSTART:20051030T090000
END:STANDARD
BEGIN:DAYLIGHT
TZOFFSETFROM:-0800
TZOFFSETTO:-0700
TZNAME:PDT
DTSTART:20060402T100000
END:DAYLIGHT
BEGIN:STANDARD
TZOFFSETFROM:-0700
TZOFFSETTO:-0800
TZNAME:PST
DTSTART:20061029T090000
END:STANDARD
BEGIN:DAYLIGHT
TZOFFSETFROM:-0800
TZOFFSETTO:-0700
TZNAME:PDT
DTSTART:20070311T100000
END:DAYLIGHT
BEGIN:STANDARD
TZOFFSETFROM:-0700
TZOFFSETTO:-0800
TZNAME:PST
DTSTART:20071104T090000
END:STANDARD
BEGIN:DAYLIGHT
TZOFFSETFROM:-0800
TZOFFSETTO:-0700
TZNAME:PDT
DTSTART:20080309T100000
END:DAYLIGHT
BEGIN:STANDARD
TZOFFSETFROM:-0700
TZOFFSETTO:-0800
TZNAME:PST
DTSTART:20081102T090000
END:STANDARD
BEGIN:DAYLIGHT
TZOFFSETFROM:-0800
TZOFFSETTO:-0700
TZNAME:PDT
DTSTART:20090308T100000
END:DAYLIGHT
BEGIN:STANDARD
TZOFFSETFROM:-0700
TZOFFSETTO:-0800
TZNAME:PST
DTSTART:20091101T090000
END:STANDARD
BEGIN:DAYLIGHT
TZOFFSETFROM:-0800
TZOFFSETTO:-0700
TZNAME:PDT
DTSTART:20100314T100000
END:DAYLIGHT
BEGIN:STANDARD
TZOFFSETFROM:-0700
TZOFFSETTO:-0800
TZNAME:PST
DTSTART:20101107T090000
END:STANDARD
BEGIN:DAYLIGHT
TZOFFSETFROM:-0800
TZOFFSETTO:-0700
TZNAME:PDT
DTSTART:20110313T100000
END:DAYLIGHT
BEGIN:STANDARD
TZOFFSETFROM:-0700
TZOFFSETTO:-0800
TZNAME:PST
DTSTART:20111106T090000
END:STANDARD
BEGIN:DAYLIGHT
TZOFFSETFROM:-0800
TZOFFSETTO:-0700
TZNAME:PDT
DTSTART:20120311T100000
END:DAYLIGHT
BEGIN:STANDARD
TZOFFSETFROM:-0700
TZOFFSETTO:-0800
TZNAME:PST
DTSTART:20121104T090000
END:STANDARD
BEGIN:DAYLIGHT
TZOFFSETFROM:-0800
TZOFFSETTO:-0700
TZNAME:PDT
DTSTART:20130310T100000
END:DAYLIGHT
BEGIN:STANDARD
TZOFFSETFROM:-0700
TZOFFSETTO:-0800
TZNAME:PST
DTSTART:20131103T090000
END:STANDARD
BEGIN:DAYLIGHT
TZOFFSETFROM:-0800
TZOFFSETTO:-0700
TZNAME:PDT
DTSTART:20140309T100000
END:DAYLIGHT
BEGIN:STANDARD
TZOFFSETFROM:-0700
TZOFFSETTO:-0800
TZNAME:PST
DTSTART:20141102T090000
END:STANDARD
BEGIN:DAYLIGHT
TZOFFSETFROM:-0800
TZOFFSETTO:-0700
TZNAME:PDT
DTSTART:20150308T100000
END:DAYLIGHT
BEGIN:STANDARD
TZOFFSETFROM:-0700
TZOFFSETTO:-0800
TZNAME:PST
DTSTART:20151101T090000
END:STANDARD
BEGIN:DAYLIGHT
TZOFFSETFROM:-0800
TZOFFSETTO:-0700
TZNAME:PDT
DTSTART:20160313T100000
END:DAYLIGHT
BEGIN:STANDARD
TZOFFSETFROM:-0700
TZOFFSETTO:-0800
TZNAME:PST
DTSTART:20161106T090000
END:STANDARD
BEGIN:DAYLIGHT
TZOFFSETFROM:-0800
TZOFFSETTO:-0700
TZNAME:PDT
DTSTART:20170312T100000
END:DAYLIGHT
BEGIN:STANDARD
TZOFFSETFROM:-0700
TZOFFSETTO:-0800
TZNAME:PST
DTSTART:20171105T090000
END:STANDARD
END:VTIMEZONE
BEGIN:VEVENT
DTSTART;TZID=America/Los_Angeles:20161210T040000
DTEND;TZID=America/Los_Angeles:20161210T080000
DTSTAMP:20260423T183945
CREATED:20160921T061238Z
LAST-MODIFIED:20160921T061356Z
UID:16555-1481342400-1481356800@actorsworkshopstudios.net
SUMMARY:Agent Showcase
DESCRIPTION:Perform for a Top San Diego SAG Agent at our Agent Showcase! \nAGENT: San Diego SAG Franchised Agent \nFORMAT: Prepared Scenes and Monologues
URL:https://actorsworkshopstudios.net/event/agent-showcase-49/
LOCATION:Actors Workshop Studios\, 5703 Oberlin Dr.\, Ste. 210\, San Diego\, CA\, 92121\, United States
CATEGORIES:Agent Showcase
ATTACH;FMTTYPE=image/jpeg:https://actorsworkshopstudios.net/wp-content/uploads/2015/01/agent_showcase.jpg_315X286.jpg
END:VEVENT
BEGIN:VEVENT
DTSTART;TZID=America/Los_Angeles:20160326T050000
DTEND;TZID=America/Los_Angeles:20160326T090000
DTSTAMP:20260423T183945
CREATED:20160126T193555Z
LAST-MODIFIED:20160126T194006Z
UID:16364-1458968400-1458982800@actorsworkshopstudios.net
SUMMARY:Agent Showcase
DESCRIPTION:Perform for a Top San Diego SAG Agent at our Agent Showcase! \nAGENT: San Diego SAG Franchised Agent \nFORMAT: Prepared Scenes and Monologues
URL:https://actorsworkshopstudios.net/event/agent-showcase-48/
LOCATION:Actors Workshop Studios\, 5703 Oberlin Dr.\, Ste. 210\, San Diego\, CA\, 92121\, United States
CATEGORIES:Agent Showcase
ATTACH;FMTTYPE=image/jpeg:https://actorsworkshopstudios.net/wp-content/uploads/2015/01/agent_showcase.jpg_315X286.jpg
END:VEVENT
BEGIN:VEVENT
DTSTART;TZID=America/Los_Angeles:20141115T040000
DTEND;TZID=America/Los_Angeles:20141115T080000
DTSTAMP:20260423T183945
CREATED:20150419T141120Z
LAST-MODIFIED:20160126T193923Z
UID:14482-1416024000-1416038400@actorsworkshopstudios.net
SUMMARY:Agent Showcase
DESCRIPTION:Perform for a Top San Diego SAG Agent at our Agent Showcase! \nAGENT: San Diego SAG Franchised Agent \nFORMAT: Prepared Scenes and Monologues
URL:https://actorsworkshopstudios.net/event/agent-showcase-47/
LOCATION:Actors Workshop Studios\, 5703 Oberlin Dr.\, Ste. 210\, San Diego\, CA\, 92121\, United States
CATEGORIES:Agent Showcase
ATTACH;FMTTYPE=image/jpeg:https://actorsworkshopstudios.net/wp-content/uploads/2015/01/agent_showcase.jpg_315X286.jpg
END:VEVENT
BEGIN:VEVENT
DTSTART;TZID=America/Los_Angeles:20140524T050000
DTEND;TZID=America/Los_Angeles:20140524T090000
DTSTAMP:20260423T183945
CREATED:20150419T135512Z
LAST-MODIFIED:20150615T031940Z
UID:14475-1400907600-1400922000@actorsworkshopstudios.net
SUMMARY:Agent Showcase
DESCRIPTION:AGENT: SAG Franchised Agent in San Diego \nFORMAT: Prepared Scenes
URL:https://actorsworkshopstudios.net/event/agent-showcase-46/
LOCATION:Actors Workshop Studios\, 5703 Oberlin Dr.\, Ste. 210\, San Diego\, CA\, 92121\, United States
CATEGORIES:Agent Showcase
ATTACH;FMTTYPE=image/jpeg:https://actorsworkshopstudios.net/wp-content/uploads/2015/01/agent_showcase.jpg_315X286.jpg
END:VEVENT
BEGIN:VEVENT
DTSTART;TZID=America/Los_Angeles:20130928T050000
DTEND;TZID=America/Los_Angeles:20130928T090000
DTSTAMP:20260423T183945
CREATED:20150419T132950Z
LAST-MODIFIED:20150615T031904Z
UID:14464-1380344400-1380358800@actorsworkshopstudios.net
SUMMARY:Agent Showcase
DESCRIPTION:AGENT: SAG Franchised Agent in San Diego \nFORMAT: Monologues
URL:https://actorsworkshopstudios.net/event/agent-showcase-45/
LOCATION:Actors Workshop Studios\, 5703 Oberlin Dr.\, Ste. 210\, San Diego\, CA\, 92121\, United States
CATEGORIES:Agent Showcase
ATTACH;FMTTYPE=image/jpeg:https://actorsworkshopstudios.net/wp-content/uploads/2015/01/agent_showcase.jpg_315X286.jpg
END:VEVENT
BEGIN:VEVENT
DTSTART;TZID=America/Los_Angeles:20130330T050000
DTEND;TZID=America/Los_Angeles:20130330T090000
DTSTAMP:20260423T183945
CREATED:20150418T161844Z
LAST-MODIFIED:20150615T031822Z
UID:14432-1364619600-1364634000@actorsworkshopstudios.net
SUMMARY:Agent Showcase
DESCRIPTION:AGENT: SAG Franchised Agent in San Diego and Los Angeles \nFORMAT: Prepared Scene/Monologue
URL:https://actorsworkshopstudios.net/event/agent-showcase-44/
LOCATION:Actors Workshop Studios\, 5703 Oberlin Dr.\, Ste. 210\, San Diego\, CA\, 92121\, United States
CATEGORIES:Agent Showcase
ATTACH;FMTTYPE=image/jpeg:https://actorsworkshopstudios.net/wp-content/uploads/2015/01/agent_showcase.jpg_315X286.jpg
END:VEVENT
BEGIN:VEVENT
DTSTART;TZID=America/Los_Angeles:20120128T040000
DTEND;TZID=America/Los_Angeles:20120128T080000
DTSTAMP:20260423T183945
CREATED:20150418T154548Z
LAST-MODIFIED:20150615T031704Z
UID:14418-1327723200-1327737600@actorsworkshopstudios.net
SUMMARY:Agent Showcase
DESCRIPTION:AGENT: SAG Franchised Agent in San Diego \nFORMAT: Prepared Scene/Monologue
URL:https://actorsworkshopstudios.net/event/agent-showcase-43/
LOCATION:Actors Workshop Studios\, 5703 Oberlin Dr.\, Ste. 210\, San Diego\, CA\, 92121\, United States
CATEGORIES:Agent Showcase
ATTACH;FMTTYPE=image/jpeg:https://actorsworkshopstudios.net/wp-content/uploads/2015/01/agent_showcase.jpg_315X286.jpg
END:VEVENT
BEGIN:VEVENT
DTSTART;TZID=America/Los_Angeles:20110917T050000
DTEND;TZID=America/Los_Angeles:20110917T090000
DTSTAMP:20260423T183945
CREATED:20150418T152546Z
LAST-MODIFIED:20150615T031620Z
UID:14407-1316235600-1316250000@actorsworkshopstudios.net
SUMMARY:Agent Showcase
DESCRIPTION:AGENT: SAG Franchised Agent in San Diego \nFORMAT: Monologue
URL:https://actorsworkshopstudios.net/event/agent-showcase-42/
LOCATION:Actors Workshop Studios\, 5703 Oberlin Dr.\, Ste. 210\, San Diego\, CA\, 92121\, United States
CATEGORIES:Agent Showcase
ATTACH;FMTTYPE=image/jpeg:https://actorsworkshopstudios.net/wp-content/uploads/2015/01/agent_showcase.jpg_315X286.jpg
END:VEVENT
BEGIN:VEVENT
DTSTART;TZID=America/Los_Angeles:20110625T050000
DTEND;TZID=America/Los_Angeles:20110625T090000
DTSTAMP:20260423T183945
CREATED:20150418T152259Z
LAST-MODIFIED:20150615T031532Z
UID:14405-1308978000-1308992400@actorsworkshopstudios.net
SUMMARY:Agent Showcase
DESCRIPTION:AGENT: SAG Franchised Agent in Los Angeles \nFORMAT: Monologues or Scenes
URL:https://actorsworkshopstudios.net/event/agent-showcase-41/
LOCATION:Actors Workshop Studios\, 5703 Oberlin Dr.\, Ste. 210\, San Diego\, CA\, 92121\, United States
CATEGORIES:Agent Showcase
ATTACH;FMTTYPE=image/jpeg:https://actorsworkshopstudios.net/wp-content/uploads/2015/01/agent_showcase.jpg_315X286.jpg
END:VEVENT
BEGIN:VEVENT
DTSTART;TZID=America/Los_Angeles:20110319T050000
DTEND;TZID=America/Los_Angeles:20110319T090000
DTSTAMP:20260423T183945
CREATED:20150418T151226Z
LAST-MODIFIED:20150615T031359Z
UID:14399-1300510800-1300525200@actorsworkshopstudios.net
SUMMARY:Agent Showcase
DESCRIPTION:AGENT: SAG Franchised Agent in San Diego \nFORMAT: Monologues or Scenes
URL:https://actorsworkshopstudios.net/event/agent-showcase-40/
LOCATION:Actors Workshop Studios\, 5703 Oberlin Dr.\, Ste. 210\, San Diego\, CA\, 92121\, United States
CATEGORIES:Agent Showcase
ATTACH;FMTTYPE=image/jpeg:https://actorsworkshopstudios.net/wp-content/uploads/2015/01/agent_showcase.jpg_315X286.jpg
END:VEVENT
BEGIN:VEVENT
DTSTART;TZID=America/Los_Angeles:20101002T050000
DTEND;TZID=America/Los_Angeles:20101002T090000
DTSTAMP:20260423T183945
CREATED:20150418T144321Z
LAST-MODIFIED:20150615T031017Z
UID:14389-1285995600-1286010000@actorsworkshopstudios.net
SUMMARY:Agent Showcase
DESCRIPTION:AGENT: SAG Franchised Agent in San Diego and Los Angeles \nFORMAT: Prepared Scene/Monologue
URL:https://actorsworkshopstudios.net/event/agent-showcase-39/
LOCATION:Actors Workshop Studios\, 5703 Oberlin Dr.\, Ste. 210\, San Diego\, CA\, 92121\, United States
CATEGORIES:Agent Showcase
ATTACH;FMTTYPE=image/jpeg:https://actorsworkshopstudios.net/wp-content/uploads/2015/01/agent_showcase.jpg_315X286.jpg
END:VEVENT
BEGIN:VEVENT
DTSTART;TZID=America/Los_Angeles:20100701T050000
DTEND;TZID=America/Los_Angeles:20100701T090000
DTSTAMP:20260423T183945
CREATED:20150418T143949Z
LAST-MODIFIED:20150615T030929Z
UID:14387-1277960400-1277974800@actorsworkshopstudios.net
SUMMARY:Agent Showcase
DESCRIPTION:AGENT: SAG Franchised Agent in San Diego \nFORMAT: Prepared Scene/Monologue
URL:https://actorsworkshopstudios.net/event/agent-showcase-38/
LOCATION:Actors Workshop Studios\, 5703 Oberlin Dr.\, Ste. 210\, San Diego\, CA\, 92121\, United States
CATEGORIES:Agent Showcase
ATTACH;FMTTYPE=image/jpeg:https://actorsworkshopstudios.net/wp-content/uploads/2015/01/agent_showcase.jpg_315X286.jpg
END:VEVENT
BEGIN:VEVENT
DTSTART;TZID=America/Los_Angeles:20100410T120000
DTEND;TZID=America/Los_Angeles:20100410T160000
DTSTAMP:20260423T183945
CREATED:20150418T143032Z
LAST-MODIFIED:20221202T000115Z
UID:14381-1270900800-1270915200@actorsworkshopstudios.net
SUMMARY:Agent Showcase
DESCRIPTION:AGENT: SAG Franchised Agent in Los Angeles \nFORMAT: Prepared Scene/Monologue
URL:https://actorsworkshopstudios.net/event/agent-showcase-37/
LOCATION:Actors Workshop Studios\, 5703 Oberlin Dr.\, Ste. 210\, San Diego\, CA\, 92121\, United States
CATEGORIES:Agent Showcase
ATTACH;FMTTYPE=image/jpeg:https://actorsworkshopstudios.net/wp-content/uploads/2015/01/agent_showcase.jpg_315X286.jpg
END:VEVENT
BEGIN:VEVENT
DTSTART;TZID=America/Los_Angeles:20091212T040000
DTEND;TZID=America/Los_Angeles:20091212T080000
DTSTAMP:20260423T183945
CREATED:20150418T141042Z
LAST-MODIFIED:20150615T030401Z
UID:14375-1260590400-1260604800@actorsworkshopstudios.net
SUMMARY:Agent Showcase
DESCRIPTION:AGENT: SAG Franchised Agent in San Diego \nFORMAT: Prepared Scene/Monologue
URL:https://actorsworkshopstudios.net/event/agent-showcase-36/
LOCATION:Actors Workshop Studios\, 5703 Oberlin Dr.\, Ste. 210\, San Diego\, CA\, 92121\, United States
CATEGORIES:Agent Showcase
ATTACH;FMTTYPE=image/jpeg:https://actorsworkshopstudios.net/wp-content/uploads/2015/01/agent_showcase.jpg_315X286.jpg
END:VEVENT
BEGIN:VEVENT
DTSTART;TZID=America/Los_Angeles:20090801T050000
DTEND;TZID=America/Los_Angeles:20090801T090000
DTSTAMP:20260423T183945
CREATED:20150418T140032Z
LAST-MODIFIED:20150615T030207Z
UID:14368-1249102800-1249117200@actorsworkshopstudios.net
SUMMARY:Agent Showcase
DESCRIPTION:AGENT: SAG Franchised Agent in Los Angeles \nFORMAT: Prepared Scene/Monologue
URL:https://actorsworkshopstudios.net/event/agent-showcase-35/
LOCATION:Actors Workshop Studios\, 5703 Oberlin Dr.\, Ste. 210\, San Diego\, CA\, 92121\, United States
CATEGORIES:Agent Showcase
ATTACH;FMTTYPE=image/jpeg:https://actorsworkshopstudios.net/wp-content/uploads/2015/01/agent_showcase.jpg_315X286.jpg
END:VEVENT
BEGIN:VEVENT
DTSTART;TZID=America/Los_Angeles:20090629T050000
DTEND;TZID=America/Los_Angeles:20090629T090000
DTSTAMP:20260423T183945
CREATED:20150418T135636Z
LAST-MODIFIED:20150615T030109Z
UID:14365-1246251600-1246266000@actorsworkshopstudios.net
SUMMARY:Agent Showcase
DESCRIPTION:AGENT: SAG Franchised Agent in Los Angeles and San Diego \nFORMAT: Prepared Scene/Monologue
URL:https://actorsworkshopstudios.net/event/agent-showcase-34/
LOCATION:Actors Workshop Studios\, 5703 Oberlin Dr.\, Ste. 210\, San Diego\, CA\, 92121\, United States
CATEGORIES:Agent Showcase
ATTACH;FMTTYPE=image/jpeg:https://actorsworkshopstudios.net/wp-content/uploads/2015/01/agent_showcase.jpg_315X286.jpg
END:VEVENT
BEGIN:VEVENT
DTSTART;TZID=America/Los_Angeles:20090221T040000
DTEND;TZID=America/Los_Angeles:20090221T080000
DTSTAMP:20260423T183945
CREATED:20150418T134506Z
LAST-MODIFIED:20150615T025758Z
UID:14356-1235188800-1235203200@actorsworkshopstudios.net
SUMMARY:Agent Showcase
DESCRIPTION:AGENT: SAG Franchised Agent in San Diego and Los Angeles \nFORMAT: Prepared Scene/Monologue
URL:https://actorsworkshopstudios.net/event/agent-showcase-33/
LOCATION:Actors Workshop Studios\, 5703 Oberlin Dr.\, Ste. 210\, San Diego\, CA\, 92121\, United States
CATEGORIES:Agent Showcase
ATTACH;FMTTYPE=image/jpeg:https://actorsworkshopstudios.net/wp-content/uploads/2015/01/agent_showcase.jpg_315X286.jpg
END:VEVENT
BEGIN:VEVENT
DTSTART;TZID=America/Los_Angeles:20080913T050000
DTEND;TZID=America/Los_Angeles:20080913T090000
DTSTAMP:20260423T183945
CREATED:20150418T133331Z
LAST-MODIFIED:20150615T025616Z
UID:14346-1221282000-1221296400@actorsworkshopstudios.net
SUMMARY:Agent Showcase
DESCRIPTION:AGENT: SAG Franchised Agent in San Diego \nFORMAT: Prepared Scene/Monologue
URL:https://actorsworkshopstudios.net/event/agent-showcase-32/
LOCATION:Actors Workshop Studios\, 5703 Oberlin Dr.\, Ste. 210\, San Diego\, CA\, 92121\, United States
CATEGORIES:Agent Showcase
ATTACH;FMTTYPE=image/jpeg:https://actorsworkshopstudios.net/wp-content/uploads/2015/01/agent_showcase.jpg_315X286.jpg
END:VEVENT
BEGIN:VEVENT
DTSTART;TZID=America/Los_Angeles:20080216T040000
DTEND;TZID=America/Los_Angeles:20080216T080000
DTSTAMP:20260423T183945
CREATED:20150418T132353Z
LAST-MODIFIED:20150615T025407Z
UID:14338-1203134400-1203148800@actorsworkshopstudios.net
SUMMARY:Agent Showcase
DESCRIPTION:AGENT: SAG Franchised Agent in San Diego \nFORMAT: Prepared Scene/Monologue
URL:https://actorsworkshopstudios.net/event/agent-showcase-31/
LOCATION:Actors Workshop Studios\, 5703 Oberlin Dr.\, Ste. 210\, San Diego\, CA\, 92121\, United States
CATEGORIES:Agent Showcase
ATTACH;FMTTYPE=image/jpeg:https://actorsworkshopstudios.net/wp-content/uploads/2015/01/agent_showcase.jpg_315X286.jpg
END:VEVENT
BEGIN:VEVENT
DTSTART;TZID=America/Los_Angeles:20070922T050000
DTEND;TZID=America/Los_Angeles:20070922T090000
DTSTAMP:20260423T183945
CREATED:20150418T123956Z
LAST-MODIFIED:20150615T025232Z
UID:14331-1190437200-1190451600@actorsworkshopstudios.net
SUMMARY:Agent Showcase
DESCRIPTION:AGENT: SAG Franchised Agent in San Diego \nFORMAT: Prepared Scene/Monologue
URL:https://actorsworkshopstudios.net/event/agent-showcase-30/
LOCATION:Actors Workshop Studios\, 5703 Oberlin Dr.\, Ste. 210\, San Diego\, CA\, 92121\, United States
CATEGORIES:Agent Showcase
ATTACH;FMTTYPE=image/jpeg:https://actorsworkshopstudios.net/wp-content/uploads/2015/01/agent_showcase.jpg_315X286.jpg
END:VEVENT
BEGIN:VEVENT
DTSTART;TZID=America/Los_Angeles:20070428T050000
DTEND;TZID=America/Los_Angeles:20070428T090000
DTSTAMP:20260423T183945
CREATED:20150418T105649Z
LAST-MODIFIED:20150615T025036Z
UID:14325-1177736400-1177750800@actorsworkshopstudios.net
SUMMARY:Agent Showcase
DESCRIPTION:AGENT: SAG Franchised Agent in San Diego \nFORMAT: Prepared Scene/Monologue
URL:https://actorsworkshopstudios.net/event/agent-showcase-29/
LOCATION:Actors Workshop Studios\, 5703 Oberlin Dr.\, Ste. 210\, San Diego\, CA\, 92121\, United States
CATEGORIES:Agent Showcase
ATTACH;FMTTYPE=image/jpeg:https://actorsworkshopstudios.net/wp-content/uploads/2015/01/agent_showcase.jpg_315X286.jpg
END:VEVENT
BEGIN:VEVENT
DTSTART;TZID=America/Los_Angeles:20061216T040000
DTEND;TZID=America/Los_Angeles:20061216T080000
DTSTAMP:20260423T183945
CREATED:20150418T101851Z
LAST-MODIFIED:20150615T024842Z
UID:14321-1166241600-1166256000@actorsworkshopstudios.net
SUMMARY:Agent Showcase
DESCRIPTION:AGENT: SAG Franchised Agent in San Diego \nFORMAT: Prepared Scene/Monologue
URL:https://actorsworkshopstudios.net/event/agent-showcase-28/
LOCATION:Actors Workshop Studios\, 5703 Oberlin Dr.\, Ste. 210\, San Diego\, CA\, 92121\, United States
CATEGORIES:Agent Showcase
ATTACH;FMTTYPE=image/jpeg:https://actorsworkshopstudios.net/wp-content/uploads/2015/01/agent_showcase.jpg_315X286.jpg
END:VEVENT
BEGIN:VEVENT
DTSTART;TZID=America/Los_Angeles:20060805T050000
DTEND;TZID=America/Los_Angeles:20060805T090000
DTSTAMP:20260423T183945
CREATED:20150418T094232Z
LAST-MODIFIED:20150615T024728Z
UID:14318-1154754000-1154768400@actorsworkshopstudios.net
SUMMARY:Agent Showcase
DESCRIPTION:AGENT: SAG Franchised Agent in Los Angeles \nFORMAT: Prepared Scene/Monologue
URL:https://actorsworkshopstudios.net/event/agent-showcase-27/
LOCATION:Actors Workshop Studios\, 5703 Oberlin Dr.\, Ste. 210\, San Diego\, CA\, 92121\, United States
CATEGORIES:Agent Showcase
ATTACH;FMTTYPE=image/jpeg:https://actorsworkshopstudios.net/wp-content/uploads/2015/01/agent_showcase.jpg_315X286.jpg
END:VEVENT
BEGIN:VEVENT
DTSTART;TZID=America/Los_Angeles:20060121T040000
DTEND;TZID=America/Los_Angeles:20060121T080000
DTSTAMP:20260423T183945
CREATED:20150417T205937Z
LAST-MODIFIED:20150615T024508Z
UID:14308-1137816000-1137830400@actorsworkshopstudios.net
SUMMARY:Agent Showcase
DESCRIPTION:AGENT: SAG Franchised Agent in San Diego \nFORMAT: Prepared Scene/Monologue
URL:https://actorsworkshopstudios.net/event/agent-showcase-26/
LOCATION:Actors Workshop Studios\, 5703 Oberlin Dr.\, Ste. 210\, San Diego\, CA\, 92121\, United States
CATEGORIES:Agent Showcase
ATTACH;FMTTYPE=image/jpeg:https://actorsworkshopstudios.net/wp-content/uploads/2015/01/agent_showcase.jpg_315X286.jpg
END:VEVENT
BEGIN:VEVENT
DTSTART;TZID=America/Los_Angeles:20050924T050000
DTEND;TZID=America/Los_Angeles:20050924T090000
DTSTAMP:20260423T183945
CREATED:20150417T202713Z
LAST-MODIFIED:20150615T024355Z
UID:14300-1127538000-1127552400@actorsworkshopstudios.net
SUMMARY:Agent Showcase
DESCRIPTION:AGENT: SAG Franchised Agent in LA \nFORMAT: Prepared Scene/Monologue
URL:https://actorsworkshopstudios.net/event/agent-showcase-25/
LOCATION:Actors Workshop Studios\, 5703 Oberlin Dr.\, Ste. 210\, San Diego\, CA\, 92121\, United States
CATEGORIES:Agent Showcase
ATTACH;FMTTYPE=image/jpeg:https://actorsworkshopstudios.net/wp-content/uploads/2015/01/agent_showcase.jpg_315X286.jpg
END:VEVENT
BEGIN:VEVENT
DTSTART;TZID=America/Los_Angeles:20050828T050000
DTEND;TZID=America/Los_Angeles:20050828T090000
DTSTAMP:20260423T183945
CREATED:20150417T201328Z
LAST-MODIFIED:20150615T024141Z
UID:14297-1125205200-1125219600@actorsworkshopstudios.net
SUMMARY:Agent Showcase
DESCRIPTION:AGENT: SAG Franchised Agent in San Diego \nFORMAT: Prepared Scene/Monologue
URL:https://actorsworkshopstudios.net/event/agent-showcase-24/
LOCATION:Actors Workshop Studios\, 5703 Oberlin Dr.\, Ste. 210\, San Diego\, CA\, 92121\, United States
CATEGORIES:Agent Showcase
ATTACH;FMTTYPE=image/jpeg:https://actorsworkshopstudios.net/wp-content/uploads/2015/01/agent_showcase.jpg_315X286.jpg
END:VEVENT
BEGIN:VEVENT
DTSTART;TZID=America/Los_Angeles:20050521T050000
DTEND;TZID=America/Los_Angeles:20050521T090000
DTSTAMP:20260423T183945
CREATED:20150417T194422Z
LAST-MODIFIED:20150615T023719Z
UID:14286-1116651600-1116666000@actorsworkshopstudios.net
SUMMARY:Agent Showcase
DESCRIPTION:AGENT: SAG Franchised Agent in San Diego \nFORMAT: Prepared Scene/Monologue
URL:https://actorsworkshopstudios.net/event/agent-showcase-23/
LOCATION:Actors Workshop Studios\, 5703 Oberlin Dr.\, Ste. 210\, San Diego\, CA\, 92121\, United States
CATEGORIES:Agent Showcase
ATTACH;FMTTYPE=image/jpeg:https://actorsworkshopstudios.net/wp-content/uploads/2015/01/agent_showcase.jpg_315X286.jpg
END:VEVENT
BEGIN:VEVENT
DTSTART;TZID=America/Los_Angeles:20050424T050000
DTEND;TZID=America/Los_Angeles:20050424T090000
DTSTAMP:20260423T183945
CREATED:20150415T213318Z
LAST-MODIFIED:20150615T023646Z
UID:14279-1114318800-1114333200@actorsworkshopstudios.net
SUMMARY:Agent Showcase
DESCRIPTION:AGENT: SAG Franchised Agent in Los Angeles \nFORMAT: Prepared Scene/Monologue
URL:https://actorsworkshopstudios.net/event/agent-showcase-22/
LOCATION:Actors Workshop Studios\, 5703 Oberlin Dr.\, Ste. 210\, San Diego\, CA\, 92121\, United States
CATEGORIES:Agent Showcase
ATTACH;FMTTYPE=image/jpeg:https://actorsworkshopstudios.net/wp-content/uploads/2015/01/agent_showcase.jpg_315X286.jpg
END:VEVENT
BEGIN:VEVENT
DTSTART;TZID=America/Los_Angeles:20050327T040000
DTEND;TZID=America/Los_Angeles:20050327T080000
DTSTAMP:20260423T183945
CREATED:20150415T211508Z
LAST-MODIFIED:20150615T023614Z
UID:14276-1111896000-1111910400@actorsworkshopstudios.net
SUMMARY:Agent Showcase
DESCRIPTION:AGENT: SAG Franchised Agent in San Diego \nFORMAT: Prepared Scene/Monologue
URL:https://actorsworkshopstudios.net/event/agent-showcase-21/
LOCATION:Actors Workshop Studios\, 5703 Oberlin Dr.\, Ste. 210\, San Diego\, CA\, 92121\, United States
CATEGORIES:Agent Showcase
ATTACH;FMTTYPE=image/jpeg:https://actorsworkshopstudios.net/wp-content/uploads/2015/01/agent_showcase.jpg_315X286.jpg
END:VEVENT
BEGIN:VEVENT
DTSTART;TZID=America/Los_Angeles:20050122T040000
DTEND;TZID=America/Los_Angeles:20050122T080000
DTSTAMP:20260423T183946
CREATED:20150415T202353Z
LAST-MODIFIED:20150615T023343Z
UID:14265-1106366400-1106380800@actorsworkshopstudios.net
SUMMARY:Agent Showcase
DESCRIPTION:AGENT: SAG Franchised Agent in San Diego \nFORMAT: Prepared Scene/Monologue
URL:https://actorsworkshopstudios.net/event/agent-showcase-20/
LOCATION:Actors Workshop Studios\, 5703 Oberlin Dr.\, Ste. 210\, San Diego\, CA\, 92121\, United States
CATEGORIES:Agent Showcase
ATTACH;FMTTYPE=image/jpeg:https://actorsworkshopstudios.net/wp-content/uploads/2015/01/agent_showcase.jpg_315X286.jpg
END:VEVENT
END:VCALENDAR