BEGIN:VCALENDAR
VERSION:2.0
PRODID:-//Film and TV Acting Classes and Auditions Workshops for Adults, Kids in San Diego - ECPv6.15.20//NONSGML v1.0//EN
CALSCALE:GREGORIAN
METHOD:PUBLISH
X-WR-CALNAME:Film and TV Acting Classes and Auditions Workshops for Adults, Kids in San Diego
X-ORIGINAL-URL:https://actorsworkshopstudios.net
X-WR-CALDESC:Events for Film and TV Acting Classes and Auditions Workshops for Adults, Kids in San Diego
REFRESH-INTERVAL;VALUE=DURATION:PT1H
X-Robots-Tag:noindex
X-PUBLISHED-TTL:PT1H
BEGIN:VTIMEZONE
TZID:America/Los_Angeles
BEGIN:DAYLIGHT
TZOFFSETFROM:-0800
TZOFFSETTO:-0700
TZNAME:PDT
DTSTART:19990404T100000
END:DAYLIGHT
BEGIN:STANDARD
TZOFFSETFROM:-0700
TZOFFSETTO:-0800
TZNAME:PST
DTSTART:19991031T090000
END:STANDARD
BEGIN:DAYLIGHT
TZOFFSETFROM:-0800
TZOFFSETTO:-0700
TZNAME:PDT
DTSTART:20000402T100000
END:DAYLIGHT
BEGIN:STANDARD
TZOFFSETFROM:-0700
TZOFFSETTO:-0800
TZNAME:PST
DTSTART:20001029T090000
END:STANDARD
BEGIN:DAYLIGHT
TZOFFSETFROM:-0800
TZOFFSETTO:-0700
TZNAME:PDT
DTSTART:20010401T100000
END:DAYLIGHT
BEGIN:STANDARD
TZOFFSETFROM:-0700
TZOFFSETTO:-0800
TZNAME:PST
DTSTART:20011028T090000
END:STANDARD
BEGIN:DAYLIGHT
TZOFFSETFROM:-0800
TZOFFSETTO:-0700
TZNAME:PDT
DTSTART:20020407T100000
END:DAYLIGHT
BEGIN:STANDARD
TZOFFSETFROM:-0700
TZOFFSETTO:-0800
TZNAME:PST
DTSTART:20021027T090000
END:STANDARD
BEGIN:DAYLIGHT
TZOFFSETFROM:-0800
TZOFFSETTO:-0700
TZNAME:PDT
DTSTART:20030406T100000
END:DAYLIGHT
BEGIN:STANDARD
TZOFFSETFROM:-0700
TZOFFSETTO:-0800
TZNAME:PST
DTSTART:20031026T090000
END:STANDARD
BEGIN:DAYLIGHT
TZOFFSETFROM:-0800
TZOFFSETTO:-0700
TZNAME:PDT
DTSTART:20040404T100000
END:DAYLIGHT
BEGIN:STANDARD
TZOFFSETFROM:-0700
TZOFFSETTO:-0800
TZNAME:PST
DTSTART:20041031T090000
END:STANDARD
END:VTIMEZONE
BEGIN:VEVENT
DTSTART;TZID=America/Los_Angeles:20031019T050000
DTEND;TZID=America/Los_Angeles:20031019T090000
DTSTAMP:20260423T232749
CREATED:20150415T130650Z
LAST-MODIFIED:20150615T022140Z
UID:14222-1066539600-1066554000@actorsworkshopstudios.net
SUMMARY:Agent Showcase
DESCRIPTION:AGENT: SAG Franchised Agent in Los Angeles \nFORMAT: Prepared Scene/Monologue
URL:https://actorsworkshopstudios.net/event/agent-showcase-13/
LOCATION:Actors Workshop Studios\, 5703 Oberlin Dr.\, Ste. 210\, San Diego\, CA\, 92121\, United States
CATEGORIES:Agent Showcase
ATTACH;FMTTYPE=image/jpeg:https://actorsworkshopstudios.net/wp-content/uploads/2015/01/agent_showcase.jpg_315X286.jpg
END:VEVENT
BEGIN:VEVENT
DTSTART;TZID=America/Los_Angeles:20030831T050000
DTEND;TZID=America/Los_Angeles:20030831T090000
DTSTAMP:20260423T232749
CREATED:20150415T125645Z
LAST-MODIFIED:20150615T022009Z
UID:14217-1062306000-1062320400@actorsworkshopstudios.net
SUMMARY:Agent Showcase
DESCRIPTION:AGENT: SAG Franchised Agent in San Diego \nFORMAT: Prepared Scene/Monologue
URL:https://actorsworkshopstudios.net/event/agent-showcase-12/
LOCATION:Actors Workshop Studios\, 5703 Oberlin Dr.\, Ste. 210\, San Diego\, CA\, 92121\, United States
CATEGORIES:Agent Showcase
ATTACH;FMTTYPE=image/jpeg:https://actorsworkshopstudios.net/wp-content/uploads/2015/01/agent_showcase.jpg_315X286.jpg
END:VEVENT
BEGIN:VEVENT
DTSTART;TZID=America/Los_Angeles:20030615T050000
DTEND;TZID=America/Los_Angeles:20030615T090000
DTSTAMP:20260423T232749
CREATED:20150415T124018Z
LAST-MODIFIED:20150615T021817Z
UID:14211-1055653200-1055667600@actorsworkshopstudios.net
SUMMARY:Agent Showcase
DESCRIPTION:AGENT: SAG Franchised Agent in San Diego \nFORMAT: Prepared Scene/Monologue
URL:https://actorsworkshopstudios.net/event/agent-showcase-11/
LOCATION:Actors Workshop Studios\, 5703 Oberlin Dr.\, Ste. 210\, San Diego\, CA\, 92121\, United States
CATEGORIES:Agent Showcase
ATTACH;FMTTYPE=image/jpeg:https://actorsworkshopstudios.net/wp-content/uploads/2015/01/agent_showcase.jpg_315X286.jpg
END:VEVENT
BEGIN:VEVENT
DTSTART;TZID=America/Los_Angeles:20030316T040000
DTEND;TZID=America/Los_Angeles:20030316T080000
DTSTAMP:20260423T232749
CREATED:20150415T113748Z
LAST-MODIFIED:20150615T021522Z
UID:14201-1047787200-1047801600@actorsworkshopstudios.net
SUMMARY:Agent Showcase
DESCRIPTION:AGENT: SAG Franchised Agent in Los Angeles \nFORMAT: Prepared Scene/Monologue
URL:https://actorsworkshopstudios.net/event/agent-showcase-10/
LOCATION:Actors Workshop Studios\, 5703 Oberlin Dr.\, Ste. 210\, San Diego\, CA\, 92121\, United States
CATEGORIES:Agent Showcase
ATTACH;FMTTYPE=image/jpeg:https://actorsworkshopstudios.net/wp-content/uploads/2015/01/agent_showcase.jpg_315X286.jpg
END:VEVENT
BEGIN:VEVENT
DTSTART;TZID=America/Los_Angeles:20030119T040000
DTEND;TZID=America/Los_Angeles:20030119T080000
DTSTAMP:20260423T232749
CREATED:20150415T111735Z
LAST-MODIFIED:20150615T021306Z
UID:14191-1042948800-1042963200@actorsworkshopstudios.net
SUMMARY:Agent Showcase
DESCRIPTION:AGENT: SAG Franchised Agent in San Diego \nFORMAT: Prepared Scene/Monologue
URL:https://actorsworkshopstudios.net/event/agent-showcase-9/
LOCATION:Actors Workshop Studios\, 5703 Oberlin Dr.\, Ste. 210\, San Diego\, CA\, 92121\, United States
CATEGORIES:Agent Showcase
ATTACH;FMTTYPE=image/jpeg:https://actorsworkshopstudios.net/wp-content/uploads/2015/01/agent_showcase.jpg_315X286.jpg
END:VEVENT
BEGIN:VEVENT
DTSTART;TZID=America/Los_Angeles:20020929T050000
DTEND;TZID=America/Los_Angeles:20020929T090000
DTSTAMP:20260423T232749
CREATED:20150415T104526Z
LAST-MODIFIED:20150615T020836Z
UID:14180-1033275600-1033290000@actorsworkshopstudios.net
SUMMARY:Agent Showcase
DESCRIPTION:AGENT: SAG Franchised Agent in San Diego \nFORMAT: Prepared Scene/Monologue
URL:https://actorsworkshopstudios.net/event/agent-showcase-8/
LOCATION:Actors Workshop Studios\, 5703 Oberlin Dr.\, Ste. 210\, San Diego\, CA\, 92121\, United States
CATEGORIES:Agent Showcase
ATTACH;FMTTYPE=image/jpeg:https://actorsworkshopstudios.net/wp-content/uploads/2015/01/agent_showcase.jpg_315X286.jpg
END:VEVENT
BEGIN:VEVENT
DTSTART;TZID=America/Los_Angeles:20020728T050000
DTEND;TZID=America/Los_Angeles:20020728T090000
DTSTAMP:20260423T232749
CREATED:20150415T100504Z
LAST-MODIFIED:20150615T020609Z
UID:14172-1027832400-1027846800@actorsworkshopstudios.net
SUMMARY:Agent Showcase
DESCRIPTION:AGENT: SAG Franchised Agent in San Diego \nFORMAT: Prepared Scene/Monologue
URL:https://actorsworkshopstudios.net/event/agent-showcase-7/
LOCATION:Actors Workshop Studios\, 5703 Oberlin Dr.\, Ste. 210\, San Diego\, CA\, 92121\, United States
CATEGORIES:Agent Showcase
ATTACH;FMTTYPE=image/jpeg:https://actorsworkshopstudios.net/wp-content/uploads/2015/01/agent_showcase.jpg_315X286.jpg
END:VEVENT
BEGIN:VEVENT
DTSTART;TZID=America/Los_Angeles:20020324T040000
DTEND;TZID=America/Los_Angeles:20020324T080000
DTSTAMP:20260423T232749
CREATED:20150415T092105Z
LAST-MODIFIED:20150615T020334Z
UID:14159-1016942400-1016956800@actorsworkshopstudios.net
SUMMARY:Agent Showcase
DESCRIPTION:AGENT: SAG Franchised Agent in LA \nFORMAT: Prepared Scene/Monologue
URL:https://actorsworkshopstudios.net/event/agent-showcase-6/
LOCATION:Actors Workshop Studios\, 5703 Oberlin Dr.\, Ste. 210\, San Diego\, CA\, 92121\, United States
CATEGORIES:Agent Showcase
ATTACH;FMTTYPE=image/jpeg:https://actorsworkshopstudios.net/wp-content/uploads/2015/01/agent_showcase.jpg_315X286.jpg
END:VEVENT
BEGIN:VEVENT
DTSTART;TZID=America/Los_Angeles:20020120T040000
DTEND;TZID=America/Los_Angeles:20020120T080000
DTSTAMP:20260423T232749
CREATED:20150405T161232Z
LAST-MODIFIED:20150615T020158Z
UID:14138-1011499200-1011513600@actorsworkshopstudios.net
SUMMARY:Agent Showcase
DESCRIPTION:INFORMATION: SAG Franchised Agent in San Diego \nAUDITION: Prepared Scenes \n 
URL:https://actorsworkshopstudios.net/event/agent-showcase-5/
LOCATION:Actors Workshop Studios\, 5703 Oberlin Dr.\, Ste. 210\, San Diego\, CA\, 92121\, United States
CATEGORIES:Agent Showcase
ATTACH;FMTTYPE=image/jpeg:https://actorsworkshopstudios.net/wp-content/uploads/2015/01/agent_showcase.jpg_315X286.jpg
END:VEVENT
BEGIN:VEVENT
DTSTART;TZID=America/Los_Angeles:20011216T040000
DTEND;TZID=America/Los_Angeles:20011216T080000
DTSTAMP:20260423T232749
CREATED:20150405T160851Z
LAST-MODIFIED:20150615T020104Z
UID:14136-1008475200-1008489600@actorsworkshopstudios.net
SUMMARY:Agent Showcase
DESCRIPTION:INFORMATION: SAG Franchised Agent in San Diego \nAUDITION: Prepared Scenes \n 
URL:https://actorsworkshopstudios.net/event/agent-showcase-4/
LOCATION:Actors Workshop Studios\, 5703 Oberlin Dr.\, Ste. 210\, San Diego\, CA\, 92121\, United States
CATEGORIES:Agent Showcase
ATTACH;FMTTYPE=image/jpeg:https://actorsworkshopstudios.net/wp-content/uploads/2015/01/agent_showcase.jpg_315X286.jpg
END:VEVENT
BEGIN:VEVENT
DTSTART;TZID=America/Los_Angeles:20010916T050000
DTEND;TZID=America/Los_Angeles:20010916T090000
DTSTAMP:20260423T232749
CREATED:20150405T152709Z
LAST-MODIFIED:20150615T015604Z
UID:14124-1000616400-1000630800@actorsworkshopstudios.net
SUMMARY:Agent Showcase
DESCRIPTION:AGENT: SAG Franchised Agent in Los Angeles \nFORMAT: Prepared Scenes
URL:https://actorsworkshopstudios.net/event/agent-showcase-3/
LOCATION:Actors Workshop Studios\, 5703 Oberlin Dr.\, Ste. 210\, San Diego\, CA\, 92121\, United States
CATEGORIES:Agent Showcase
ATTACH;FMTTYPE=image/jpeg:https://actorsworkshopstudios.net/wp-content/uploads/2015/01/agent_showcase.jpg_315X286.jpg
END:VEVENT
BEGIN:VEVENT
DTSTART;TZID=America/Los_Angeles:20010826T050000
DTEND;TZID=America/Los_Angeles:20010826T090000
DTSTAMP:20260423T232749
CREATED:20150404T094348Z
LAST-MODIFIED:20150615T015520Z
UID:14117-998802000-998816400@actorsworkshopstudios.net
SUMMARY:Agent Showcase
DESCRIPTION:AGENT: SAG Franchised Agent in San Diego \nFORMAT: Prepared Scenes
URL:https://actorsworkshopstudios.net/event/agent-showcase-2/
LOCATION:Actors Workshop Studios\, 5703 Oberlin Dr.\, Ste. 210\, San Diego\, CA\, 92121\, United States
CATEGORIES:Agent Showcase
ATTACH;FMTTYPE=image/jpeg:https://actorsworkshopstudios.net/wp-content/uploads/2015/01/agent_showcase.jpg_315X286.jpg
END:VEVENT
BEGIN:VEVENT
DTSTART;TZID=America/Los_Angeles:20010415T050000
DTEND;TZID=America/Los_Angeles:20010415T090000
DTSTAMP:20260423T232749
CREATED:20150404T073940Z
LAST-MODIFIED:20150615T015113Z
UID:14096-987310800-987325200@actorsworkshopstudios.net
SUMMARY:Agent Showcase
DESCRIPTION:AGENT: SAG Franchised Agent in San Diego \nFORMAT: Prepared Scenes and Monologue
URL:https://actorsworkshopstudios.net/event/agent-showcase/
LOCATION:Actors Workshop Studios\, 5703 Oberlin Dr.\, Ste. 210\, San Diego\, CA\, 92121\, United States
CATEGORIES:Agent Showcase
ATTACH;FMTTYPE=image/jpeg:https://actorsworkshopstudios.net/wp-content/uploads/2015/01/agent_showcase.jpg_315X286.jpg
END:VEVENT
BEGIN:VEVENT
DTSTART;TZID=America/Los_Angeles:20010129T040000
DTEND;TZID=America/Los_Angeles:20010129T080000
DTSTAMP:20260423T232749
CREATED:20150403T154625Z
LAST-MODIFIED:20150615T014636Z
UID:14064-980740800-980755200@actorsworkshopstudios.net
SUMMARY:Producer Showcase - Andrew Molina
DESCRIPTION:SHOWCASE: Feature Films \nAndrew Molina \nWe are excited to have film producer Andrew Molina visiting for a casting on January 29th\, 2001. \nAndrew Molina is known for producing works such as Machete Don’t Text (2010)\, Hashtag Luv Swag (2015) and many others. \n  \n  \n  \n  \n  \n  \n  \n 
URL:https://actorsworkshopstudios.net/event/producer-showcase-andrew-molina/
LOCATION:Actors Workshop Studios\, 5703 Oberlin Dr.\, Ste. 210\, San Diego\, CA\, 92121\, United States
CATEGORIES:Agent Showcase
ATTACH;FMTTYPE=image/jpeg:https://actorsworkshopstudios.net/wp-content/uploads/2015/04/Producer-Showcase.jpg
END:VEVENT
BEGIN:VEVENT
DTSTART;TZID=America/Los_Angeles:20010122T040000
DTEND;TZID=America/Los_Angeles:20010122T080000
DTSTAMP:20260423T232749
CREATED:20150403T153533Z
LAST-MODIFIED:20150615T014453Z
UID:14063-980136000-980150400@actorsworkshopstudios.net
SUMMARY:Agent Showcase
DESCRIPTION:INFORMATION: SAG Franchised Agent in San Diego \nSHOWCASE: Prepared Scenes and Monologue \n 
URL:https://actorsworkshopstudios.net/event/agent-showcase-sag-franchised-agent/
LOCATION:Actors Workshop Studios\, 5703 Oberlin Dr.\, Ste. 210\, San Diego\, CA\, 92121\, United States
CATEGORIES:Agent Showcase
ATTACH;FMTTYPE=image/jpeg:https://actorsworkshopstudios.net/wp-content/uploads/2015/01/agent_showcase.jpg_315X286.jpg
END:VEVENT
BEGIN:VEVENT
DTSTART;TZID=America/Los_Angeles:20001106T040000
DTEND;TZID=America/Los_Angeles:20001106T080000
DTSTAMP:20260423T232749
CREATED:20150403T131026Z
LAST-MODIFIED:20150615T014051Z
UID:14050-973483200-973497600@actorsworkshopstudios.net
SUMMARY:Producer Showcase - Brian Plescia
DESCRIPTION:SHOWCASE:  $2M SAG Film – Romantic comedy/drama \n  \nBrian Plescia \nWe are excited to have Producer Brian Plescia visiting for a casting on October 16th\, 2000. \n  \n  \n  \n  \n  \n  \n 
URL:https://actorsworkshopstudios.net/event/producer-showcase-brian-plescia/
LOCATION:Actors Workshop Studios\, 5703 Oberlin Dr.\, Ste. 210\, San Diego\, CA\, 92121\, United States
CATEGORIES:Agent Showcase
ATTACH;FMTTYPE=image/jpeg:https://actorsworkshopstudios.net/wp-content/uploads/2015/04/Producer-Showcase.jpg
END:VEVENT
BEGIN:VEVENT
DTSTART;TZID=America/Los_Angeles:20001016T050000
DTEND;TZID=America/Los_Angeles:20001016T090000
DTSTAMP:20260423T232749
CREATED:20150403T120501Z
LAST-MODIFIED:20150615T013529Z
UID:14044-971672400-971686800@actorsworkshopstudios.net
SUMMARY:Casting Director Workshop - Paul Weber
DESCRIPTION:CASTING: Monologue and Cold Reading \nOFFER:  Copy\, Credit and Meals \n  \nPaul Weber \nWe are excited to have TV Casting Director Paul Weber visiting for a casting on October 16th\, 2000. \nPaul Weber is known for his work on The Outer Limits (1995)\, Stargate: Atlantis (2004) and Poltergeist: The Legacy (1996). \nTo learn more about Paul Weber\, check out his IMDB page: http://www.imdb.com/name/nm0916712/ \n  \n  \n  \n  \n  \n  \n  \n 
URL:https://actorsworkshopstudios.net/event/auditionshowcase-for-showtime-series-outer-limits-and-stargate/
LOCATION:Actors Workshop Studios\, 5703 Oberlin Dr.\, Ste. 210\, San Diego\, CA\, 92121\, United States
CATEGORIES:Agent Showcase,Audition
ATTACH;FMTTYPE=image/jpeg:https://actorsworkshopstudios.net/wp-content/uploads/2015/01/CD-WS_286x255.jpg
END:VEVENT
END:VCALENDAR