BEGIN:VCALENDAR
VERSION:2.0
PRODID:-//Film and TV Acting Classes and Auditions Workshops for Adults, Kids in San Diego - ECPv6.15.20//NONSGML v1.0//EN
CALSCALE:GREGORIAN
METHOD:PUBLISH
X-WR-CALNAME:Film and TV Acting Classes and Auditions Workshops for Adults, Kids in San Diego
X-ORIGINAL-URL:https://actorsworkshopstudios.net
X-WR-CALDESC:Events for Film and TV Acting Classes and Auditions Workshops for Adults, Kids in San Diego
REFRESH-INTERVAL;VALUE=DURATION:PT1H
X-Robots-Tag:noindex
X-PUBLISHED-TTL:PT1H
BEGIN:VTIMEZONE
TZID:America/Los_Angeles
BEGIN:DAYLIGHT
TZOFFSETFROM:-0800
TZOFFSETTO:-0700
TZNAME:PDT
DTSTART:19990404T100000
END:DAYLIGHT
BEGIN:STANDARD
TZOFFSETFROM:-0700
TZOFFSETTO:-0800
TZNAME:PST
DTSTART:19991031T090000
END:STANDARD
BEGIN:DAYLIGHT
TZOFFSETFROM:-0800
TZOFFSETTO:-0700
TZNAME:PDT
DTSTART:20000402T100000
END:DAYLIGHT
BEGIN:STANDARD
TZOFFSETFROM:-0700
TZOFFSETTO:-0800
TZNAME:PST
DTSTART:20001029T090000
END:STANDARD
BEGIN:DAYLIGHT
TZOFFSETFROM:-0800
TZOFFSETTO:-0700
TZNAME:PDT
DTSTART:20010401T100000
END:DAYLIGHT
BEGIN:STANDARD
TZOFFSETFROM:-0700
TZOFFSETTO:-0800
TZNAME:PST
DTSTART:20011028T090000
END:STANDARD
BEGIN:DAYLIGHT
TZOFFSETFROM:-0800
TZOFFSETTO:-0700
TZNAME:PDT
DTSTART:20020407T100000
END:DAYLIGHT
BEGIN:STANDARD
TZOFFSETFROM:-0700
TZOFFSETTO:-0800
TZNAME:PST
DTSTART:20021027T090000
END:STANDARD
END:VTIMEZONE
BEGIN:VEVENT
DTSTART;TZID=America/Los_Angeles:20010415T050000
DTEND;TZID=America/Los_Angeles:20010415T090000
DTSTAMP:20260424T010053
CREATED:20150404T073940Z
LAST-MODIFIED:20150615T015113Z
UID:14096-987310800-987325200@actorsworkshopstudios.net
SUMMARY:Agent Showcase
DESCRIPTION:AGENT: SAG Franchised Agent in San Diego \nFORMAT: Prepared Scenes and Monologue
URL:https://actorsworkshopstudios.net/event/agent-showcase/
LOCATION:Actors Workshop Studios\, 5703 Oberlin Dr.\, Ste. 210\, San Diego\, CA\, 92121\, United States
CATEGORIES:Agent Showcase
ATTACH;FMTTYPE=image/jpeg:https://actorsworkshopstudios.net/wp-content/uploads/2015/01/agent_showcase.jpg_315X286.jpg
END:VEVENT
BEGIN:VEVENT
DTSTART;TZID=America/Los_Angeles:20010129T040000
DTEND;TZID=America/Los_Angeles:20010129T080000
DTSTAMP:20260424T010053
CREATED:20150403T154625Z
LAST-MODIFIED:20150615T014636Z
UID:14064-980740800-980755200@actorsworkshopstudios.net
SUMMARY:Producer Showcase - Andrew Molina
DESCRIPTION:SHOWCASE: Feature Films \nAndrew Molina \nWe are excited to have film producer Andrew Molina visiting for a casting on January 29th\, 2001. \nAndrew Molina is known for producing works such as Machete Don’t Text (2010)\, Hashtag Luv Swag (2015) and many others. \n  \n  \n  \n  \n  \n  \n  \n 
URL:https://actorsworkshopstudios.net/event/producer-showcase-andrew-molina/
LOCATION:Actors Workshop Studios\, 5703 Oberlin Dr.\, Ste. 210\, San Diego\, CA\, 92121\, United States
CATEGORIES:Agent Showcase
ATTACH;FMTTYPE=image/jpeg:https://actorsworkshopstudios.net/wp-content/uploads/2015/04/Producer-Showcase.jpg
END:VEVENT
BEGIN:VEVENT
DTSTART;TZID=America/Los_Angeles:20010122T040000
DTEND;TZID=America/Los_Angeles:20010122T080000
DTSTAMP:20260424T010053
CREATED:20150403T153533Z
LAST-MODIFIED:20150615T014453Z
UID:14063-980136000-980150400@actorsworkshopstudios.net
SUMMARY:Agent Showcase
DESCRIPTION:INFORMATION: SAG Franchised Agent in San Diego \nSHOWCASE: Prepared Scenes and Monologue \n 
URL:https://actorsworkshopstudios.net/event/agent-showcase-sag-franchised-agent/
LOCATION:Actors Workshop Studios\, 5703 Oberlin Dr.\, Ste. 210\, San Diego\, CA\, 92121\, United States
CATEGORIES:Agent Showcase
ATTACH;FMTTYPE=image/jpeg:https://actorsworkshopstudios.net/wp-content/uploads/2015/01/agent_showcase.jpg_315X286.jpg
END:VEVENT
BEGIN:VEVENT
DTSTART;TZID=America/Los_Angeles:20001106T040000
DTEND;TZID=America/Los_Angeles:20001106T080000
DTSTAMP:20260424T010053
CREATED:20150403T131026Z
LAST-MODIFIED:20150615T014051Z
UID:14050-973483200-973497600@actorsworkshopstudios.net
SUMMARY:Producer Showcase - Brian Plescia
DESCRIPTION:SHOWCASE:  $2M SAG Film – Romantic comedy/drama \n  \nBrian Plescia \nWe are excited to have Producer Brian Plescia visiting for a casting on October 16th\, 2000. \n  \n  \n  \n  \n  \n  \n 
URL:https://actorsworkshopstudios.net/event/producer-showcase-brian-plescia/
LOCATION:Actors Workshop Studios\, 5703 Oberlin Dr.\, Ste. 210\, San Diego\, CA\, 92121\, United States
CATEGORIES:Agent Showcase
ATTACH;FMTTYPE=image/jpeg:https://actorsworkshopstudios.net/wp-content/uploads/2015/04/Producer-Showcase.jpg
END:VEVENT
BEGIN:VEVENT
DTSTART;TZID=America/Los_Angeles:20001016T050000
DTEND;TZID=America/Los_Angeles:20001016T090000
DTSTAMP:20260424T010053
CREATED:20150403T120501Z
LAST-MODIFIED:20150615T013529Z
UID:14044-971672400-971686800@actorsworkshopstudios.net
SUMMARY:Casting Director Workshop - Paul Weber
DESCRIPTION:CASTING: Monologue and Cold Reading \nOFFER:  Copy\, Credit and Meals \n  \nPaul Weber \nWe are excited to have TV Casting Director Paul Weber visiting for a casting on October 16th\, 2000. \nPaul Weber is known for his work on The Outer Limits (1995)\, Stargate: Atlantis (2004) and Poltergeist: The Legacy (1996). \nTo learn more about Paul Weber\, check out his IMDB page: http://www.imdb.com/name/nm0916712/ \n  \n  \n  \n  \n  \n  \n  \n 
URL:https://actorsworkshopstudios.net/event/auditionshowcase-for-showtime-series-outer-limits-and-stargate/
LOCATION:Actors Workshop Studios\, 5703 Oberlin Dr.\, Ste. 210\, San Diego\, CA\, 92121\, United States
CATEGORIES:Agent Showcase,Audition
ATTACH;FMTTYPE=image/jpeg:https://actorsworkshopstudios.net/wp-content/uploads/2015/01/CD-WS_286x255.jpg
END:VEVENT
END:VCALENDAR