BEGIN:VCALENDAR
VERSION:2.0
PRODID:-//Film and TV Acting Classes and Auditions Workshops for Adults, Kids in San Diego - ECPv6.15.20//NONSGML v1.0//EN
CALSCALE:GREGORIAN
METHOD:PUBLISH
X-WR-CALNAME:Film and TV Acting Classes and Auditions Workshops for Adults, Kids in San Diego
X-ORIGINAL-URL:https://actorsworkshopstudios.net
X-WR-CALDESC:Events for Film and TV Acting Classes and Auditions Workshops for Adults, Kids in San Diego
REFRESH-INTERVAL;VALUE=DURATION:PT1H
X-Robots-Tag:noindex
X-PUBLISHED-TTL:PT1H
BEGIN:VTIMEZONE
TZID:America/Los_Angeles
BEGIN:DAYLIGHT
TZOFFSETFROM:-0800
TZOFFSETTO:-0700
TZNAME:PDT
DTSTART:20220313T100000
END:DAYLIGHT
BEGIN:STANDARD
TZOFFSETFROM:-0700
TZOFFSETTO:-0800
TZNAME:PST
DTSTART:20221106T090000
END:STANDARD
BEGIN:DAYLIGHT
TZOFFSETFROM:-0800
TZOFFSETTO:-0700
TZNAME:PDT
DTSTART:20230312T100000
END:DAYLIGHT
BEGIN:STANDARD
TZOFFSETFROM:-0700
TZOFFSETTO:-0800
TZNAME:PST
DTSTART:20231105T090000
END:STANDARD
BEGIN:DAYLIGHT
TZOFFSETFROM:-0800
TZOFFSETTO:-0700
TZNAME:PDT
DTSTART:20240310T100000
END:DAYLIGHT
BEGIN:STANDARD
TZOFFSETFROM:-0700
TZOFFSETTO:-0800
TZNAME:PST
DTSTART:20241103T090000
END:STANDARD
END:VTIMEZONE
BEGIN:VEVENT
DTSTART;VALUE=DATE:20230201
DTEND;VALUE=DATE:20230702
DTSTAMP:20260420T085607
CREATED:20221101T170058Z
LAST-MODIFIED:20230410T085731Z
UID:15151-1675209600-1688255999@actorsworkshopstudios.net
SUMMARY:New Auditions & Workshops Scheduled
DESCRIPTION:New Auditions\, LA Casting Director Workshops\, and Showcases are scheduled on an on-going basis. \nCHECK BACK SOON! \nIn the meantime\, click on “Previous Events” to view recent opportunities. \n 
URL:https://actorsworkshopstudios.net/event/new-auditions-are-being-scheduled/
LOCATION:Actors Workshop Studios\, 5703 Oberlin Dr.\, Ste. 210\, San Diego\, CA\, 92121\, United States
CATEGORIES:New Auditions Scheduled
ATTACH;FMTTYPE=image/jpeg:https://actorsworkshopstudios.net/wp-content/uploads/2015/04/Auditions-med1.jpg
END:VEVENT
END:VCALENDAR