BEGIN:VCALENDAR
VERSION:2.0
PRODID:-//Film and TV Acting Classes and Auditions Workshops for Adults, Kids in San Diego - ECPv6.15.20//NONSGML v1.0//EN
CALSCALE:GREGORIAN
METHOD:PUBLISH
X-WR-CALNAME:Film and TV Acting Classes and Auditions Workshops for Adults, Kids in San Diego
X-ORIGINAL-URL:https://actorsworkshopstudios.net
X-WR-CALDESC:Events for Film and TV Acting Classes and Auditions Workshops for Adults, Kids in San Diego
REFRESH-INTERVAL;VALUE=DURATION:PT1H
X-Robots-Tag:noindex
X-PUBLISHED-TTL:PT1H
BEGIN:VTIMEZONE
TZID:America/Los_Angeles
BEGIN:DAYLIGHT
TZOFFSETFROM:-0800
TZOFFSETTO:-0700
TZNAME:PDT
DTSTART:20000402T100000
END:DAYLIGHT
BEGIN:STANDARD
TZOFFSETFROM:-0700
TZOFFSETTO:-0800
TZNAME:PST
DTSTART:20001029T090000
END:STANDARD
BEGIN:DAYLIGHT
TZOFFSETFROM:-0800
TZOFFSETTO:-0700
TZNAME:PDT
DTSTART:20010401T100000
END:DAYLIGHT
BEGIN:STANDARD
TZOFFSETFROM:-0700
TZOFFSETTO:-0800
TZNAME:PST
DTSTART:20011028T090000
END:STANDARD
BEGIN:DAYLIGHT
TZOFFSETFROM:-0800
TZOFFSETTO:-0700
TZNAME:PDT
DTSTART:20020407T100000
END:DAYLIGHT
BEGIN:STANDARD
TZOFFSETFROM:-0700
TZOFFSETTO:-0800
TZNAME:PST
DTSTART:20021027T090000
END:STANDARD
END:VTIMEZONE
BEGIN:VEVENT
DTSTART;TZID=America/Los_Angeles:20010527T050000
DTEND;TZID=America/Los_Angeles:20010527T090000
DTSTAMP:20260424T124848
CREATED:20150404T083129Z
LAST-MODIFIED:20150415T084723Z
UID:14105-990939600-990954000@actorsworkshopstudios.net
SUMMARY:Producer Showcase - Debra Bravandt
DESCRIPTION:PRODUCER: Debra Bravandt \nPROJECTS: Commercials/Industrials in San Diego \nFORMAT: Monologues and Prepared Scenes
URL:https://actorsworkshopstudios.net/event/producer-showcase-debra-bravandt/
LOCATION:Actors Workshop Studios\, 5703 Oberlin Dr.\, Ste. 210\, San Diego\, CA\, 92121\, United States
CATEGORIES:Producer Showcase
ATTACH;FMTTYPE=image/jpeg:https://actorsworkshopstudios.net/wp-content/uploads/2015/04/Producer-Showcase.jpg
END:VEVENT
BEGIN:VEVENT
DTSTART;TZID=America/Los_Angeles:20010429T050000
DTEND;TZID=America/Los_Angeles:20010429T090000
DTSTAMP:20260424T124848
CREATED:20150404T080034Z
LAST-MODIFIED:20150415T085906Z
UID:14101-988520400-988534800@actorsworkshopstudios.net
SUMMARY:Producer Showcase - Ashley Gardner
DESCRIPTION:PRODUCER: Ashley Gardner \nCOMPANY: Ashley Gardner Group \nFORMAT: Prepared Scene and Monologue
URL:https://actorsworkshopstudios.net/event/producer-showcase-ashley-gardner/
LOCATION:Actors Workshop Studios\, 5703 Oberlin Dr.\, Ste. 210\, San Diego\, CA\, 92121\, United States
CATEGORIES:Producer Showcase
ATTACH;FMTTYPE=image/jpeg:https://actorsworkshopstudios.net/wp-content/uploads/2015/04/Producer-Showcase.jpg
END:VEVENT
BEGIN:VEVENT
DTSTART;TZID=America/Los_Angeles:20010304T040000
DTEND;TZID=America/Los_Angeles:20010304T080000
DTSTAMP:20260424T124848
CREATED:20150403T165057Z
LAST-MODIFIED:20150415T090239Z
UID:14075-983678400-983692800@actorsworkshopstudios.net
SUMMARY:Producer Showcase - Janet Deriada
DESCRIPTION:PRODUCER: Janet Deriada \nPROJECTS: Film\, Television\, Industrials\, Commercials \nFORMAT: prepared scenes and commercial readings
URL:https://actorsworkshopstudios.net/event/producer-showcase-janet-deriada/
LOCATION:Actors Workshop Studios\, 5703 Oberlin Dr.\, Ste. 210\, San Diego\, CA\, 92121\, United States
CATEGORIES:Producer Showcase
ATTACH;FMTTYPE=image/jpeg:https://actorsworkshopstudios.net/wp-content/uploads/2015/04/Producer-Showcase.jpg
END:VEVENT
BEGIN:VEVENT
DTSTART;TZID=America/Los_Angeles:20010212T040000
DTEND;TZID=America/Los_Angeles:20010212T080000
DTSTAMP:20260424T124848
CREATED:20150403T163007Z
LAST-MODIFIED:20150415T090352Z
UID:14072-981950400-981964800@actorsworkshopstudios.net
SUMMARY:Producer Showcase - Karl Kozak
DESCRIPTION:PRODUCER: Karl Kozak \nCOMPANY: Film Quest Productions \nFORMAT: Monologues and Prepared Scenes
URL:https://actorsworkshopstudios.net/event/producer-showcase-karl-kozak/
LOCATION:Actors Workshop Studios\, 5703 Oberlin Dr.\, Ste. 210\, San Diego\, CA\, 92121\, United States
CATEGORIES:Producer Showcase
ATTACH;FMTTYPE=image/jpeg:https://actorsworkshopstudios.net/wp-content/uploads/2015/04/Producer-Showcase.jpg
END:VEVENT
BEGIN:VEVENT
DTSTART;TZID=America/Los_Angeles:20010205T040000
DTEND;TZID=America/Los_Angeles:20010205T080000
DTSTAMP:20260424T124848
CREATED:20150403T160656Z
LAST-MODIFIED:20150615T032747Z
UID:14070-981345600-981360000@actorsworkshopstudios.net
SUMMARY:Producer Showcase - Dante
DESCRIPTION:PRODUCER: Dante \nCOMPANY: Inferno Productions \n 
URL:https://actorsworkshopstudios.net/event/producer-showcase-dante/
LOCATION:Actors Workshop Studios\, 5703 Oberlin Dr.\, Ste. 210\, San Diego\, CA\, 92121\, United States
CATEGORIES:Producer Showcase
ATTACH;FMTTYPE=image/jpeg:https://actorsworkshopstudios.net/wp-content/uploads/2015/04/Producer-Showcase.jpg
END:VEVENT
END:VCALENDAR