BEGIN:VCALENDAR
VERSION:2.0
PRODID:-//Film and TV Acting Classes and Auditions Workshops for Adults, Kids in San Diego - ECPv6.15.20//NONSGML v1.0//EN
CALSCALE:GREGORIAN
METHOD:PUBLISH
X-WR-CALNAME:Film and TV Acting Classes and Auditions Workshops for Adults, Kids in San Diego
X-ORIGINAL-URL:https://actorsworkshopstudios.net
X-WR-CALDESC:Events for Film and TV Acting Classes and Auditions Workshops for Adults, Kids in San Diego
REFRESH-INTERVAL;VALUE=DURATION:PT1H
X-Robots-Tag:noindex
X-PUBLISHED-TTL:PT1H
BEGIN:VTIMEZONE
TZID:America/Los_Angeles
BEGIN:DAYLIGHT
TZOFFSETFROM:-0800
TZOFFSETTO:-0700
TZNAME:PDT
DTSTART:20100314T100000
END:DAYLIGHT
BEGIN:STANDARD
TZOFFSETFROM:-0700
TZOFFSETTO:-0800
TZNAME:PST
DTSTART:20101107T090000
END:STANDARD
BEGIN:DAYLIGHT
TZOFFSETFROM:-0800
TZOFFSETTO:-0700
TZNAME:PDT
DTSTART:20110313T100000
END:DAYLIGHT
BEGIN:STANDARD
TZOFFSETFROM:-0700
TZOFFSETTO:-0800
TZNAME:PST
DTSTART:20111106T090000
END:STANDARD
BEGIN:DAYLIGHT
TZOFFSETFROM:-0800
TZOFFSETTO:-0700
TZNAME:PDT
DTSTART:20120311T100000
END:DAYLIGHT
BEGIN:STANDARD
TZOFFSETFROM:-0700
TZOFFSETTO:-0800
TZNAME:PST
DTSTART:20121104T090000
END:STANDARD
BEGIN:DAYLIGHT
TZOFFSETFROM:-0800
TZOFFSETTO:-0700
TZNAME:PDT
DTSTART:20130310T100000
END:DAYLIGHT
BEGIN:STANDARD
TZOFFSETFROM:-0700
TZOFFSETTO:-0800
TZNAME:PST
DTSTART:20131103T090000
END:STANDARD
END:VTIMEZONE
BEGIN:VEVENT
DTSTART;TZID=America/Los_Angeles:20120512T093000
DTEND;TZID=America/Los_Angeles:20120512T113000
DTSTAMP:20260425T213748
CREATED:20150418T155841Z
LAST-MODIFIED:20150418T155841Z
UID:14425-1336815000-1336822200@actorsworkshopstudios.net
SUMMARY:Audition for Film Project
DESCRIPTION:TITLE: 48 Hour Film Project \nAUDITION: Monologues or Scenes \nOFFER:  Copy\, Credit and Meals
URL:https://actorsworkshopstudios.net/event/audition-for-film-project/
LOCATION:Actors Workshop Studios\, 5703 Oberlin Dr.\, Ste. 210\, San Diego\, CA\, 92121\, United States
CATEGORIES:Audition
ATTACH;FMTTYPE=image/jpeg:https://actorsworkshopstudios.net/wp-content/uploads/2015/04/Auditions-med1.jpg
END:VEVENT
BEGIN:VEVENT
DTSTART;TZID=America/Los_Angeles:20120416T050000
DTEND;TZID=America/Los_Angeles:20120416T090000
DTSTAMP:20260425T213748
CREATED:20150418T155554Z
LAST-MODIFIED:20170220T214003Z
UID:14424-1334552400-1334566800@actorsworkshopstudios.net
SUMMARY:Casting Director Workshop - D. Candis Paule
DESCRIPTION:CASTING DIRECTOR: D. Candis Paule \nCOMPANY: Stu Segall Productions \nPROJECTS: Films\, TV\, Commercials \nFORMAT: Cold Reading Workshop \nD. Candis Paule \nWe are excited to have Film and TV Casting Director D. Candis Paule visiting for a Workshop on April 16th. \nCandis created her own casting company by the name of Candis Casting and takes pride in her ability to \nto cast episodic\, pilot\, MOW\, film\, commercial\, industrial\, and any other on-camera projects. \nD. Candis Paule is known for her work on Desire (2006)\, Watch Over Me (2006) and American Heiress (2007). \nCandis is the casting director for Stu Segall Productions\, where “Terriers” recently wrapped for F/X. \n  \n  \n  \n  \nIf you wish to request a participation slot\, complete the form below. \n\n\n  \n\n\n\n\n	 First Name (required)\n \n	 \n\n\n	 Last Name (required)\n \n	 \n\nEmail (required)\n \n\n \nMessage\n \n\n \n\n \n\n \n\n\n ×\n\n\n\n* By completing the above form\, you will be added to our email list to inform you of any future audition or workshop opportunities.\n If you do not wish to be on our email list but wish to to participate in this specific event\, you may email us at: info@ActorsWorkShopStudios.com. \n** This workshop is a learning experience. It is not an audition or employment opportunity. When the workshop is over\, the casting director/casting associate/casting director (whichever is applicable) teaching this workshop will not be taking home nor be given access to your headshot\, resume or any other of your promotional materials. You will need to submit your headshot and resume separately.
URL:https://actorsworkshopstudios.net/event/casting-director-workshop-d-candis-paule-2/
LOCATION:Actors Workshop Studios\, 5703 Oberlin Dr.\, Ste. 210\, San Diego\, CA\, 92121\, United States
CATEGORIES:Casting Director Workshop
ATTACH;FMTTYPE=image/jpeg:https://actorsworkshopstudios.net/wp-content/uploads/2015/01/CD-WS_286x255.jpg
END:VEVENT
BEGIN:VEVENT
DTSTART;TZID=America/Los_Angeles:20120412T093000
DTEND;TZID=America/Los_Angeles:20120412T113000
DTSTAMP:20260425T213748
CREATED:20150418T155353Z
LAST-MODIFIED:20150418T155353Z
UID:14423-1334223000-1334230200@actorsworkshopstudios.net
SUMMARY:Audition for Independent Film
DESCRIPTION:TITLE: The Slingers \nAUDITION: Cold Reading \nOFFER:  Copy\, Credit and Meals
URL:https://actorsworkshopstudios.net/event/audition-for-independent-film-143/
LOCATION:Actors Workshop Studios\, 5703 Oberlin Dr.\, Ste. 210\, San Diego\, CA\, 92121\, United States
CATEGORIES:Audition
ATTACH;FMTTYPE=image/jpeg:https://actorsworkshopstudios.net/wp-content/uploads/2015/04/Auditions-med1.jpg
END:VEVENT
BEGIN:VEVENT
DTSTART;TZID=America/Los_Angeles:20120306T083000
DTEND;TZID=America/Los_Angeles:20120306T103000
DTSTAMP:20260425T213748
CREATED:20150418T155239Z
LAST-MODIFIED:20150418T155239Z
UID:14422-1331022600-1331029800@actorsworkshopstudios.net
SUMMARY:Audition for Independent Film
DESCRIPTION:TITLE: The Bullet Tree \nAUDITION: Cold Reading \nOFFER:  Copy\, Credit and Meals
URL:https://actorsworkshopstudios.net/event/audition-for-independent-film-142/
LOCATION:Actors Workshop Studios\, 5703 Oberlin Dr.\, Ste. 210\, San Diego\, CA\, 92121\, United States
CATEGORIES:Audition
ATTACH;FMTTYPE=image/jpeg:https://actorsworkshopstudios.net/wp-content/uploads/2015/04/Auditions-med1.jpg
END:VEVENT
BEGIN:VEVENT
DTSTART;TZID=America/Los_Angeles:20120301T163000
DTEND;TZID=America/Los_Angeles:20120301T183000
DTSTAMP:20260425T213748
CREATED:20150418T155111Z
LAST-MODIFIED:20221201T234110Z
UID:14421-1330619400-1330626600@actorsworkshopstudios.net
SUMMARY:Audition for Independent Film
DESCRIPTION:TITLE: Six Feet Deep \nAUDITION: Cold Reading \nOFFER:  Copy\, Credit and Meals
URL:https://actorsworkshopstudios.net/event/audition-for-independent-film-141/
LOCATION:Actors Workshop Studios\, 5703 Oberlin Dr.\, Ste. 210\, San Diego\, CA\, 92121\, United States
CATEGORIES:Audition
ATTACH;FMTTYPE=image/jpeg:https://actorsworkshopstudios.net/wp-content/uploads/2015/04/Auditions-med1.jpg
END:VEVENT
BEGIN:VEVENT
DTSTART;TZID=America/Los_Angeles:20120228T083000
DTEND;TZID=America/Los_Angeles:20120228T103000
DTSTAMP:20260425T213748
CREATED:20150418T154815Z
LAST-MODIFIED:20150418T154815Z
UID:14420-1330417800-1330425000@actorsworkshopstudios.net
SUMMARY:Audition for Independent Film
DESCRIPTION:TITLE: Big Kid Stuff \nAUDITION: Cold Reading \nOFFER:  Copy\, Credit and Meals
URL:https://actorsworkshopstudios.net/event/audition-for-independent-film-140/
LOCATION:Actors Workshop Studios\, 5703 Oberlin Dr.\, Ste. 210\, San Diego\, CA\, 92121\, United States
CATEGORIES:Audition
ATTACH;FMTTYPE=image/jpeg:https://actorsworkshopstudios.net/wp-content/uploads/2015/04/Auditions-med1.jpg
END:VEVENT
BEGIN:VEVENT
DTSTART;TZID=America/Los_Angeles:20120221T083000
DTEND;TZID=America/Los_Angeles:20120221T103000
DTSTAMP:20260425T213748
CREATED:20150418T154700Z
LAST-MODIFIED:20150418T154916Z
UID:14419-1329813000-1329820200@actorsworkshopstudios.net
SUMMARY:Audition for Independent Film
DESCRIPTION:TITLE: A Ballad for Texas \nAUDITION: Cold Reading \nOFFER:  Copy\, Credit and Meals
URL:https://actorsworkshopstudios.net/event/audition-for-independent-film-139/
LOCATION:Actors Workshop Studios\, 5703 Oberlin Dr.\, Ste. 210\, San Diego\, CA\, 92121\, United States
CATEGORIES:Audition
ATTACH;FMTTYPE=image/jpeg:https://actorsworkshopstudios.net/wp-content/uploads/2015/04/Auditions-med1.jpg
END:VEVENT
BEGIN:VEVENT
DTSTART;TZID=America/Los_Angeles:20120128T040000
DTEND;TZID=America/Los_Angeles:20120128T080000
DTSTAMP:20260425T213748
CREATED:20150418T154548Z
LAST-MODIFIED:20150615T031704Z
UID:14418-1327723200-1327737600@actorsworkshopstudios.net
SUMMARY:Agent Showcase
DESCRIPTION:AGENT: SAG Franchised Agent in San Diego \nFORMAT: Prepared Scene/Monologue
URL:https://actorsworkshopstudios.net/event/agent-showcase-43/
LOCATION:Actors Workshop Studios\, 5703 Oberlin Dr.\, Ste. 210\, San Diego\, CA\, 92121\, United States
CATEGORIES:Agent Showcase
ATTACH;FMTTYPE=image/jpeg:https://actorsworkshopstudios.net/wp-content/uploads/2015/01/agent_showcase.jpg_315X286.jpg
END:VEVENT
BEGIN:VEVENT
DTSTART;TZID=America/Los_Angeles:20120124T083000
DTEND;TZID=America/Los_Angeles:20120124T103000
DTSTAMP:20260425T213748
CREATED:20150418T154431Z
LAST-MODIFIED:20150418T154431Z
UID:14417-1327393800-1327401000@actorsworkshopstudios.net
SUMMARY:Audition for Independent Film
DESCRIPTION:TITLE: Tele-Novella \nAUDITION: Cold Reading \nOFFER:  Copy\, Credit and Meals
URL:https://actorsworkshopstudios.net/event/audition-for-independent-film-138/
LOCATION:Actors Workshop Studios\, 5703 Oberlin Dr.\, Ste. 210\, San Diego\, CA\, 92121\, United States
CATEGORIES:Audition
ATTACH;FMTTYPE=image/jpeg:https://actorsworkshopstudios.net/wp-content/uploads/2015/04/Auditions-med1.jpg
END:VEVENT
BEGIN:VEVENT
DTSTART;TZID=America/Los_Angeles:20111213T083000
DTEND;TZID=America/Los_Angeles:20111213T103000
DTSTAMP:20260425T213748
CREATED:20150418T154306Z
LAST-MODIFIED:20150418T154306Z
UID:14416-1323765000-1323772200@actorsworkshopstudios.net
SUMMARY:Audition for Independent Film
DESCRIPTION:TITLE: Men \nAUDITION: Cold Reading \nOFFER:  Copy\, Credit and Meals
URL:https://actorsworkshopstudios.net/event/audition-for-independent-film-137/
LOCATION:Actors Workshop Studios\, 5703 Oberlin Dr.\, Ste. 210\, San Diego\, CA\, 92121\, United States
CATEGORIES:Audition
ATTACH;FMTTYPE=image/jpeg:https://actorsworkshopstudios.net/wp-content/uploads/2015/04/Auditions-med1.jpg
END:VEVENT
BEGIN:VEVENT
DTSTART;TZID=America/Los_Angeles:20111117T083000
DTEND;TZID=America/Los_Angeles:20111117T103000
DTSTAMP:20260425T213748
CREATED:20150418T154213Z
LAST-MODIFIED:20150418T154213Z
UID:14415-1321518600-1321525800@actorsworkshopstudios.net
SUMMARY:Audition for Independent Film
DESCRIPTION:TITLE: Mission: Irreparable \nAUDITION: Cold Reading \nOFFER:  Copy\, Credit and Meals
URL:https://actorsworkshopstudios.net/event/audition-for-independent-film-136/
LOCATION:Actors Workshop Studios\, 5703 Oberlin Dr.\, Ste. 210\, San Diego\, CA\, 92121\, United States
CATEGORIES:Audition
ATTACH;FMTTYPE=image/jpeg:https://actorsworkshopstudios.net/wp-content/uploads/2015/04/Auditions-med1.jpg
END:VEVENT
BEGIN:VEVENT
DTSTART;TZID=America/Los_Angeles:20111110T083000
DTEND;TZID=America/Los_Angeles:20111110T103000
DTSTAMP:20260425T213748
CREATED:20150418T153900Z
LAST-MODIFIED:20150418T153943Z
UID:14414-1320913800-1320921000@actorsworkshopstudios.net
SUMMARY:Audition for Independent Film
DESCRIPTION:TITLE: The Dawning \nAUDITION: Cold Reading \nOFFER:  Copy\, Credit and Meals
URL:https://actorsworkshopstudios.net/event/audition-for-independent-film-135/
LOCATION:Actors Workshop Studios\, 5703 Oberlin Dr.\, Ste. 210\, San Diego\, CA\, 92121\, United States
CATEGORIES:Audition
ATTACH;FMTTYPE=image/jpeg:https://actorsworkshopstudios.net/wp-content/uploads/2015/04/Auditions-med1.jpg
END:VEVENT
BEGIN:VEVENT
DTSTART;TZID=America/Los_Angeles:20111108T083000
DTEND;TZID=America/Los_Angeles:20111108T103000
DTSTAMP:20260425T213748
CREATED:20150418T153705Z
LAST-MODIFIED:20150418T153705Z
UID:14413-1320741000-1320748200@actorsworkshopstudios.net
SUMMARY:Audition for Independent Film
DESCRIPTION:TITLE: Decisions \nAUDITION: Cold Reading \nOFFER:  Copy\, Credit and Meals
URL:https://actorsworkshopstudios.net/event/audition-for-independent-film-134/
LOCATION:Actors Workshop Studios\, 5703 Oberlin Dr.\, Ste. 210\, San Diego\, CA\, 92121\, United States
CATEGORIES:Audition
ATTACH;FMTTYPE=image/jpeg:https://actorsworkshopstudios.net/wp-content/uploads/2015/04/Auditions-med1.jpg
END:VEVENT
BEGIN:VEVENT
DTSTART;TZID=America/Los_Angeles:20111027T093000
DTEND;TZID=America/Los_Angeles:20111027T113000
DTSTAMP:20260425T213748
CREATED:20150418T153504Z
LAST-MODIFIED:20150418T153504Z
UID:14412-1319707800-1319715000@actorsworkshopstudios.net
SUMMARY:Audition for Independent Film
DESCRIPTION:TITLE: Deep Dish \nAUDITION: Cold Reading \nOFFER:  Copy\, Credit and Meals
URL:https://actorsworkshopstudios.net/event/audition-for-independent-film-133/
LOCATION:Actors Workshop Studios\, 5703 Oberlin Dr.\, Ste. 210\, San Diego\, CA\, 92121\, United States
CATEGORIES:Audition
ATTACH;FMTTYPE=image/jpeg:https://actorsworkshopstudios.net/wp-content/uploads/2015/04/Auditions-med1.jpg
END:VEVENT
BEGIN:VEVENT
DTSTART;TZID=America/Los_Angeles:20111020T093000
DTEND;TZID=America/Los_Angeles:20111020T113000
DTSTAMP:20260425T213748
CREATED:20150418T153401Z
LAST-MODIFIED:20150418T153401Z
UID:14411-1319103000-1319110200@actorsworkshopstudios.net
SUMMARY:Audition for Independent Film
DESCRIPTION:TITLE: Mors Certa\, Hora Incerta \nAUDITION: Cold Reading \nOFFER:  Copy\, Credit and Meals
URL:https://actorsworkshopstudios.net/event/audition-for-independent-film-132/
LOCATION:Actors Workshop Studios\, 5703 Oberlin Dr.\, Ste. 210\, San Diego\, CA\, 92121\, United States
CATEGORIES:Audition
ATTACH;FMTTYPE=image/jpeg:https://actorsworkshopstudios.net/wp-content/uploads/2015/04/Auditions-med1.jpg
END:VEVENT
BEGIN:VEVENT
DTSTART;TZID=America/Los_Angeles:20111013T093000
DTEND;TZID=America/Los_Angeles:20111013T113000
DTSTAMP:20260425T213748
CREATED:20150418T153054Z
LAST-MODIFIED:20150418T153054Z
UID:14410-1318498200-1318505400@actorsworkshopstudios.net
SUMMARY:Audition for Independent Film
DESCRIPTION:TITLE: Perception \nAUDITION: Cold Reading \nOFFER:  Copy\, Credit and Meals
URL:https://actorsworkshopstudios.net/event/audition-for-independent-film-131/
LOCATION:Actors Workshop Studios\, 5703 Oberlin Dr.\, Ste. 210\, San Diego\, CA\, 92121\, United States
CATEGORIES:Audition
ATTACH;FMTTYPE=image/jpeg:https://actorsworkshopstudios.net/wp-content/uploads/2015/04/Auditions-med1.jpg
END:VEVENT
BEGIN:VEVENT
DTSTART;TZID=America/Los_Angeles:20111006T093000
DTEND;TZID=America/Los_Angeles:20111006T113000
DTSTAMP:20260425T213748
CREATED:20150418T152920Z
LAST-MODIFIED:20150418T152920Z
UID:14409-1317893400-1317900600@actorsworkshopstudios.net
SUMMARY:Audition for Independent Film
DESCRIPTION:TITLE: Red Wings \nAUDITION: Cold Reading \nOFFER:  Copy\, Credit and Meals
URL:https://actorsworkshopstudios.net/event/audition-for-independent-film-130/
LOCATION:Actors Workshop Studios\, 5703 Oberlin Dr.\, Ste. 210\, San Diego\, CA\, 92121\, United States
CATEGORIES:Audition
ATTACH;FMTTYPE=image/jpeg:https://actorsworkshopstudios.net/wp-content/uploads/2015/04/Auditions-med1.jpg
END:VEVENT
BEGIN:VEVENT
DTSTART;TZID=America/Los_Angeles:20111005T093000
DTEND;TZID=America/Los_Angeles:20111005T113000
DTSTAMP:20260425T213748
CREATED:20150418T152656Z
LAST-MODIFIED:20150418T152656Z
UID:14408-1317807000-1317814200@actorsworkshopstudios.net
SUMMARY:Audition for Independent Film
DESCRIPTION:TITLE: Defect \nAUDITION: Cold Reading \nOFFER:  Copy\, Credit and Meals
URL:https://actorsworkshopstudios.net/event/audition-for-independent-film-129/
LOCATION:Actors Workshop Studios\, 5703 Oberlin Dr.\, Ste. 210\, San Diego\, CA\, 92121\, United States
CATEGORIES:Audition
ATTACH;FMTTYPE=image/jpeg:https://actorsworkshopstudios.net/wp-content/uploads/2015/04/Auditions-med1.jpg
END:VEVENT
BEGIN:VEVENT
DTSTART;TZID=America/Los_Angeles:20110917T050000
DTEND;TZID=America/Los_Angeles:20110917T090000
DTSTAMP:20260425T213748
CREATED:20150418T152546Z
LAST-MODIFIED:20150615T031620Z
UID:14407-1316235600-1316250000@actorsworkshopstudios.net
SUMMARY:Agent Showcase
DESCRIPTION:AGENT: SAG Franchised Agent in San Diego \nFORMAT: Monologue
URL:https://actorsworkshopstudios.net/event/agent-showcase-42/
LOCATION:Actors Workshop Studios\, 5703 Oberlin Dr.\, Ste. 210\, San Diego\, CA\, 92121\, United States
CATEGORIES:Agent Showcase
ATTACH;FMTTYPE=image/jpeg:https://actorsworkshopstudios.net/wp-content/uploads/2015/01/agent_showcase.jpg_315X286.jpg
END:VEVENT
BEGIN:VEVENT
DTSTART;TZID=America/Los_Angeles:20110913T093000
DTEND;TZID=America/Los_Angeles:20110913T113000
DTSTAMP:20260425T213748
CREATED:20150418T152434Z
LAST-MODIFIED:20150418T152434Z
UID:14406-1315906200-1315913400@actorsworkshopstudios.net
SUMMARY:Audition for Web Series
DESCRIPTION:TITLE: Ballyhue \nAUDITION: Cold Reading \nOFFER:  Copy\, Credit and Meals
URL:https://actorsworkshopstudios.net/event/audition-for-web-series-3/
LOCATION:Actors Workshop Studios\, 5703 Oberlin Dr.\, Ste. 210\, San Diego\, CA\, 92121\, United States
CATEGORIES:Audition
ATTACH;FMTTYPE=image/jpeg:https://actorsworkshopstudios.net/wp-content/uploads/2015/04/Auditions-med1.jpg
END:VEVENT
BEGIN:VEVENT
DTSTART;TZID=America/Los_Angeles:20110625T050000
DTEND;TZID=America/Los_Angeles:20110625T090000
DTSTAMP:20260425T213748
CREATED:20150418T152259Z
LAST-MODIFIED:20150615T031532Z
UID:14405-1308978000-1308992400@actorsworkshopstudios.net
SUMMARY:Agent Showcase
DESCRIPTION:AGENT: SAG Franchised Agent in Los Angeles \nFORMAT: Monologues or Scenes
URL:https://actorsworkshopstudios.net/event/agent-showcase-41/
LOCATION:Actors Workshop Studios\, 5703 Oberlin Dr.\, Ste. 210\, San Diego\, CA\, 92121\, United States
CATEGORIES:Agent Showcase
ATTACH;FMTTYPE=image/jpeg:https://actorsworkshopstudios.net/wp-content/uploads/2015/01/agent_showcase.jpg_315X286.jpg
END:VEVENT
BEGIN:VEVENT
DTSTART;TZID=America/Los_Angeles:20110517T093000
DTEND;TZID=America/Los_Angeles:20110517T113000
DTSTAMP:20260425T213748
CREATED:20150418T152116Z
LAST-MODIFIED:20150418T152116Z
UID:14404-1305624600-1305631800@actorsworkshopstudios.net
SUMMARY:Audition for Corporate Video
DESCRIPTION:TITLE: The Successful Job Search Process \nAUDITION: Cold Reading \nOFFER:  Copy\, Credit and Meals
URL:https://actorsworkshopstudios.net/event/audition-for-corporate-video-6/
LOCATION:Actors Workshop Studios\, 5703 Oberlin Dr.\, Ste. 210\, San Diego\, CA\, 92121\, United States
CATEGORIES:Audition
ATTACH;FMTTYPE=image/jpeg:https://actorsworkshopstudios.net/wp-content/uploads/2015/04/Auditions-med1.jpg
END:VEVENT
BEGIN:VEVENT
DTSTART;TZID=America/Los_Angeles:20110514T050000
DTEND;TZID=America/Los_Angeles:20110514T090000
DTSTAMP:20260425T213748
CREATED:20150418T151905Z
LAST-MODIFIED:20170220T214343Z
UID:14403-1305349200-1305363600@actorsworkshopstudios.net
SUMMARY:Casting Director Workshop - Andy Henry
DESCRIPTION:CASTING DIRECTOR: Andy Henry \nCOMPANY: Casting Society of America (CSA) \nPROJECTS: Feature Films/Television \nFORMAT: Cold Reading Workshop \nAndy Henry \nWe are excited to have MAJOR Film and TV Casting Director Andy Henry visiting for a Workshop on May 14. \nAndy is a proud employee in the company known as The Casting Society of America (CSA). \nMr. Henry was born in Montana\, USA and just recently returned there for a casting. He is known for his \nwork on CSI: Crime Scene Investigation (2000)\, The Amazing Spider-Man (2012) and The Descendants (2011). \n  \n  \nIf you wish to request a participation slot\, complete the form below. \n\n\n  \n\n\n\n\n	 First Name (required)\n \n	 \n\n\n	 Last Name (required)\n \n	 \n\nEmail (required)\n \n\n \nMessage\n \n\n \n\n \n\n \n\n\n ×\n\n\n\n* By completing the above form\, you will be added to our email list to inform you of any future audition or workshop opportunities.\n If you do not wish to be on our email list but wish to to participate in this specific event\, you may email us at: info@ActorsWorkShopStudios.com. \n** This workshop is a learning experience. It is not an audition or employment opportunity. When the workshop is over\, the casting director/casting associate/casting director (whichever is applicable) teaching this workshop will not be taking home nor be given access to your headshot\, resume or any other of your promotional materials. You will need to submit your headshot and resume separately.
URL:https://actorsworkshopstudios.net/event/casting-director-workshop-andy-henry/
LOCATION:Actors Workshop Studios\, 5703 Oberlin Dr.\, Ste. 210\, San Diego\, CA\, 92121\, United States
CATEGORIES:Casting Director Workshop
ATTACH;FMTTYPE=image/jpeg:https://actorsworkshopstudios.net/wp-content/uploads/2015/01/CD-WS_286x255.jpg
END:VEVENT
BEGIN:VEVENT
DTSTART;TZID=America/Los_Angeles:20110512T093000
DTEND;TZID=America/Los_Angeles:20110512T113000
DTSTAMP:20260425T213748
CREATED:20150418T151712Z
LAST-MODIFIED:20150418T151712Z
UID:14402-1305192600-1305199800@actorsworkshopstudios.net
SUMMARY:Audition for Independent Film
DESCRIPTION:TITLE: Vein \nAUDITION: Cold Reading \nOFFER:  Copy\, Credit and Meals
URL:https://actorsworkshopstudios.net/event/audition-for-independent-film-128/
LOCATION:Actors Workshop Studios\, 5703 Oberlin Dr.\, Ste. 210\, San Diego\, CA\, 92121\, United States
CATEGORIES:Audition
ATTACH;FMTTYPE=image/jpeg:https://actorsworkshopstudios.net/wp-content/uploads/2015/04/Auditions-med1.jpg
END:VEVENT
BEGIN:VEVENT
DTSTART;TZID=America/Los_Angeles:20110505T093000
DTEND;TZID=America/Los_Angeles:20110505T113000
DTSTAMP:20260425T213748
CREATED:20150418T151613Z
LAST-MODIFIED:20150418T151613Z
UID:14401-1304587800-1304595000@actorsworkshopstudios.net
SUMMARY:Audition for Web Series
DESCRIPTION:TITLE: Rebirth \nAUDITION: Cold Reading \nOFFER:  Copy\, Credit and Meals
URL:https://actorsworkshopstudios.net/event/audition-for-web-series-2/
LOCATION:Actors Workshop Studios\, 5703 Oberlin Dr.\, Ste. 210\, San Diego\, CA\, 92121\, United States
CATEGORIES:Audition
ATTACH;FMTTYPE=image/jpeg:https://actorsworkshopstudios.net/wp-content/uploads/2015/04/Auditions-med1.jpg
END:VEVENT
BEGIN:VEVENT
DTSTART;TZID=America/Los_Angeles:20110329T093000
DTEND;TZID=America/Los_Angeles:20110329T113000
DTSTAMP:20260425T213748
CREATED:20150418T151422Z
LAST-MODIFIED:20150418T151422Z
UID:14400-1301391000-1301398200@actorsworkshopstudios.net
SUMMARY:Audition for Independent Film
DESCRIPTION:TITLE: Checkmate \nAUDITION: Cold Reading \nOFFER:  Copy\, Credit and Meals
URL:https://actorsworkshopstudios.net/event/audition-for-independent-film-127/
LOCATION:Actors Workshop Studios\, 5703 Oberlin Dr.\, Ste. 210\, San Diego\, CA\, 92121\, United States
CATEGORIES:Audition
ATTACH;FMTTYPE=image/jpeg:https://actorsworkshopstudios.net/wp-content/uploads/2015/04/Auditions-med1.jpg
END:VEVENT
BEGIN:VEVENT
DTSTART;TZID=America/Los_Angeles:20110319T050000
DTEND;TZID=America/Los_Angeles:20110319T090000
DTSTAMP:20260425T213748
CREATED:20150418T151226Z
LAST-MODIFIED:20150615T031359Z
UID:14399-1300510800-1300525200@actorsworkshopstudios.net
SUMMARY:Agent Showcase
DESCRIPTION:AGENT: SAG Franchised Agent in San Diego \nFORMAT: Monologues or Scenes
URL:https://actorsworkshopstudios.net/event/agent-showcase-40/
LOCATION:Actors Workshop Studios\, 5703 Oberlin Dr.\, Ste. 210\, San Diego\, CA\, 92121\, United States
CATEGORIES:Agent Showcase
ATTACH;FMTTYPE=image/jpeg:https://actorsworkshopstudios.net/wp-content/uploads/2015/01/agent_showcase.jpg_315X286.jpg
END:VEVENT
BEGIN:VEVENT
DTSTART;TZID=America/Los_Angeles:20110317T093000
DTEND;TZID=America/Los_Angeles:20110317T113000
DTSTAMP:20260425T213748
CREATED:20150418T150913Z
LAST-MODIFIED:20150418T150913Z
UID:14398-1300354200-1300361400@actorsworkshopstudios.net
SUMMARY:Audition for Independent Film
DESCRIPTION:TITLE: Last Call at Mac’s \nAUDITION: Cold Reading \nOFFER:  Copy\, Credit and Meals
URL:https://actorsworkshopstudios.net/event/audition-for-independent-film-126/
LOCATION:Actors Workshop Studios\, 5703 Oberlin Dr.\, Ste. 210\, San Diego\, CA\, 92121\, United States
CATEGORIES:Audition
ATTACH;FMTTYPE=image/jpeg:https://actorsworkshopstudios.net/wp-content/uploads/2015/04/Auditions-med1.jpg
END:VEVENT
BEGIN:VEVENT
DTSTART;TZID=America/Los_Angeles:20110210T083000
DTEND;TZID=America/Los_Angeles:20110210T103000
DTSTAMP:20260425T213748
CREATED:20150418T150742Z
LAST-MODIFIED:20150418T150742Z
UID:14397-1297326600-1297333800@actorsworkshopstudios.net
SUMMARY:Film Scene Study
DESCRIPTION:FILM: The Big Lebowski \nFORMAT: Scene Study
URL:https://actorsworkshopstudios.net/event/film-scene-study-2/
LOCATION:Actors Workshop Studios\, 5703 Oberlin Dr.\, Ste. 210\, San Diego\, CA\, 92121\, United States
CATEGORIES:Scene Study
ATTACH;FMTTYPE=image/jpeg:https://actorsworkshopstudios.net/wp-content/uploads/2015/04/Scene-Study.jpg
END:VEVENT
BEGIN:VEVENT
DTSTART;TZID=America/Los_Angeles:20110207T040000
DTEND;TZID=America/Los_Angeles:20110207T080000
DTSTAMP:20260425T213748
CREATED:20150418T150522Z
LAST-MODIFIED:20170220T214509Z
UID:14396-1297051200-1297065600@actorsworkshopstudios.net
SUMMARY:Casting Director Workshop - D. Candis Paule
DESCRIPTION:CASTING DIRECTOR: D. Candis Paule \nCOMPANY: Stu Segall Productions \nPROJECTS: Films\, TV\, Commercials \nFORMAT: Cold Reading Workshop \nD. Candis Paule \nWe are excited to have Film and TV Casting Director D. Candis Paule visiting for a Workshop on February 7th. \nCandis created her own casting company by the name of Candis Casting and takes pride in her ability to \nto cast episodic\, pilot\, MOW\, film\, commercial\, industrial\, and any other on-camera projects. \nD. Candis Paule is known for her work on Desire (2006)\, Watch Over Me (2006) and American Heiress (2007) and “Terriers.” \n  \n  \n  \n  \nIf you wish to request a participation slot\, complete the form below. \n\n\n  \n\n\n\n\n	 First Name (required)\n \n	 \n\n\n	 Last Name (required)\n \n	 \n\nEmail (required)\n \n\n \nMessage\n \n\n \n\n \n\n \n\n\n ×\n\n\n\n* By completing the above form\, you will be added to our email list to inform you of any future audition or workshop opportunities.\n If you do not wish to be on our email list but wish to to participate in this specific event\, you may email us at: info@ActorsWorkShopStudios.com. \n** This workshop is a learning experience. It is not an audition or employment opportunity. When the workshop is over\, the casting director/casting associate/casting director (whichever is applicable) teaching this workshop will not be taking home nor be given access to your headshot\, resume or any other of your promotional materials. You will need to submit your headshot and resume separately.
URL:https://actorsworkshopstudios.net/event/casting-director-workshop-d-candis-paule/
LOCATION:Actors Workshop Studios\, 5703 Oberlin Dr.\, Ste. 210\, San Diego\, CA\, 92121\, United States
CATEGORIES:Casting Director Workshop
ATTACH;FMTTYPE=image/jpeg:https://actorsworkshopstudios.net/wp-content/uploads/2015/01/CD-WS_286x255.jpg
END:VEVENT
END:VCALENDAR